BEGIN:VCALENDAR
VERSION:2.0
PRODID:-//Vamos e.V. - ECPv6.15.17.1//NONSGML v1.0//EN
CALSCALE:GREGORIAN
METHOD:PUBLISH
X-ORIGINAL-URL:https://vamos-muenster.de
X-WR-CALDESC:Veranstaltungen für Vamos e.V.
REFRESH-INTERVAL;VALUE=DURATION:PT1H
X-Robots-Tag:noindex
X-PUBLISHED-TTL:PT1H
BEGIN:VTIMEZONE
TZID:Europe/Paris
BEGIN:DAYLIGHT
TZOFFSETFROM:+0100
TZOFFSETTO:+0200
TZNAME:CEST
DTSTART:20230326T010000
END:DAYLIGHT
BEGIN:STANDARD
TZOFFSETFROM:+0200
TZOFFSETTO:+0100
TZNAME:CET
DTSTART:20231029T010000
END:STANDARD
BEGIN:DAYLIGHT
TZOFFSETFROM:+0100
TZOFFSETTO:+0200
TZNAME:CEST
DTSTART:20240331T010000
END:DAYLIGHT
BEGIN:STANDARD
TZOFFSETFROM:+0200
TZOFFSETTO:+0100
TZNAME:CET
DTSTART:20241027T010000
END:STANDARD
BEGIN:DAYLIGHT
TZOFFSETFROM:+0100
TZOFFSETTO:+0200
TZNAME:CEST
DTSTART:20250330T010000
END:DAYLIGHT
BEGIN:STANDARD
TZOFFSETFROM:+0200
TZOFFSETTO:+0100
TZNAME:CET
DTSTART:20251026T010000
END:STANDARD
END:VTIMEZONE
BEGIN:VEVENT
DTSTART;TZID=Europe/Paris:20241221T173000
DTEND;TZID=Europe/Paris:20241221T200000
DTSTAMP:20260424T175621
CREATED:20241126T083919Z
LAST-MODIFIED:20241126T084820Z
UID:10449-1734802200-1734811200@vamos-muenster.de
SUMMARY:Kurzfilmtag in NRW mit dem Programm Kurzfilmprogramm des Internationalen Roma-Filmfestivals AKE DIKHEA?
DESCRIPTION:Im Zuge des Kurzfilmtags in NRW zeigt der Verein Die Linse e.V. im Cinema das Programm des Internationalen Roma-Filmfestivals AKE DIKHEA?\, in dem die gängigen Bilder über „Banden“ von Sinti* und Roma* auf den Kopf gestellt werden. Sechs Filme zeigen Geschichten des Zusammenhalts zwischen Roma* und Jüdinnen*Juden während des Holocausts\, der Inspiration durch eine deutsche Sinto-Boxlegende für Tänzer*innen\, die im 9/8-Takt für Roma*-Viertel in Istanbul kämpfen\, eines intergenerationalen Zueinanderfindens beim Thema Homosexualität\, der Solidarität bei einer dramatischen Abschiebung\, der Mobbingerfahrungen in der Schule und der gemeinsamen Verarbeitung des Verlusts der eigenen Tradition. \nAKE DIKHEA? ist ein internationales Festival mit Filmen von und mit Roma* und Sinti*\, das seit 2017 alljährlich in Berlin stattfindet. Es zeigt die Welt aus deren Perspektive und stellt die Frage\, wie sie sich selbst sehen und wie sie gesehen werden wollen. In Romanes bedeutet „AKE DIKHEA?“: „NA SIEHST DU?“. Weitere Informationen unter akedikhea.com. \nHauptveranstalter ist der Verein Die Linse e.V. \nVamos ist Kooperationspartner. \n  \n  \n  \n 
URL:https://vamos-muenster.de/event/kurzfilmtag-in-nrw-mit-dem-programm-kurzfilmprogramm-des-internationalen-roma-filmfestivals-ake-dikhea/
LOCATION:Cinema & Kurbelkiste\, Warendorferstr.45\, Münster\, 48145\, Deutschland
ATTACH;FMTTYPE=image/jpeg:https://vamos-muenster.de/wp-content/uploads/2024/11/csm_kurzfilmtage.23_a72121e496.jpg
ORGANIZER;CN="Die Linse e.V.":MAILTO:mailto:info@dielinse.de
END:VEVENT
END:VCALENDAR