BEGIN:VCALENDAR
VERSION:2.0
PRODID:-//Vamos e.V. - ECPv6.15.17.1//NONSGML v1.0//EN
CALSCALE:GREGORIAN
METHOD:PUBLISH
X-ORIGINAL-URL:https://vamos-muenster.de
X-WR-CALDESC:Veranstaltungen für Vamos e.V.
REFRESH-INTERVAL;VALUE=DURATION:PT1H
X-Robots-Tag:noindex
X-PUBLISHED-TTL:PT1H
BEGIN:VTIMEZONE
TZID:Europe/Paris
BEGIN:DAYLIGHT
TZOFFSETFROM:+0100
TZOFFSETTO:+0200
TZNAME:CEST
DTSTART:20240331T010000
END:DAYLIGHT
BEGIN:STANDARD
TZOFFSETFROM:+0200
TZOFFSETTO:+0100
TZNAME:CET
DTSTART:20241027T010000
END:STANDARD
BEGIN:DAYLIGHT
TZOFFSETFROM:+0100
TZOFFSETTO:+0200
TZNAME:CEST
DTSTART:20250330T010000
END:DAYLIGHT
BEGIN:STANDARD
TZOFFSETFROM:+0200
TZOFFSETTO:+0100
TZNAME:CET
DTSTART:20251026T010000
END:STANDARD
BEGIN:DAYLIGHT
TZOFFSETFROM:+0100
TZOFFSETTO:+0200
TZNAME:CEST
DTSTART:20260329T010000
END:DAYLIGHT
BEGIN:STANDARD
TZOFFSETFROM:+0200
TZOFFSETTO:+0100
TZNAME:CET
DTSTART:20261025T010000
END:STANDARD
END:VTIMEZONE
BEGIN:VEVENT
DTSTART;VALUE=DATE:20250124
DTEND;VALUE=DATE:20250127
DTSTAMP:20260424T161800
CREATED:20241002T090310Z
LAST-MODIFIED:20241002T103943Z
UID:10330-1737676800-1737935999@vamos-muenster.de
SUMMARY:Entwicklungspolitische Jahrestagung
DESCRIPTION:Liebe Eine-Welt-Bewegte\, liebe Interessierte\, die AG Eine Welt Gruppen des Bistums Münster und der Ev. Kirche von Westfalen lädt herzlich zu der Jahrestagung Entwicklungspolitik 2025 ein. Unter dem Motto „Macht und Ressourcen umfairteilen! Wie kommen wir zu einer gerechteren Welt?“ gehen wir Fragen nach wie: Wie können wir eine Welt gestalten\, in der Macht und Ressourcen fair(er) verteilt sind? Welche Ursachen liegen den Krisen zugrunde und welche Tendenzen ergeben sich daraus? Welche Maßnahmen können weltweit zu mehr sozialer und ökologischer Gerechtigkeit beitragen\, z. B. eine Steuerreform\, fairer Handel\, ethische Geldanlagen\, und was sollte dabei beachtet werden? Wie kann „anders wirtschaften“ konkret aussehen? Wie können wir die argumentativen Grundstrukturen rechter Ideologien erkennen und ihnen entgegenwirken? Welchen Beitrag können Kirche\, Politik\, Gesellschaft und jede*r von uns zur fairen (Um)Verteilung von Macht und Ressourcen leisten? \nEs werden Vorträge gehalten und Raum für Diskussion und gemeinsamen Austausch unter anderem in Arbeitsgruppen geboten. \nAlle Informationen\, das Programm und Anmeldung (bis 1.12.2024) finden sich hier. \nGefördert wird die Veranstaltung durch: \n              
URL:https://vamos-muenster.de/event/entwicklungspolitische-jahrestagung/
LOCATION:Evangelische Tagungsstätte Haus Villigst\, Iserlohner Str. 25\, Schwerte\, 58239
ATTACH;FMTTYPE=image/jpeg:https://vamos-muenster.de/wp-content/uploads/2024/10/Webseite_JahrestagungEntwicklungspolitik.jpg
END:VEVENT
END:VCALENDAR