BEGIN:VCALENDAR
VERSION:2.0
PRODID:-//Vamos e.V. - ECPv6.15.17.1//NONSGML v1.0//EN
CALSCALE:GREGORIAN
METHOD:PUBLISH
X-ORIGINAL-URL:https://vamos-muenster.de
X-WR-CALDESC:Veranstaltungen für Vamos e.V.
REFRESH-INTERVAL;VALUE=DURATION:PT1H
X-Robots-Tag:noindex
X-PUBLISHED-TTL:PT1H
BEGIN:VTIMEZONE
TZID:Europe/Paris
BEGIN:DAYLIGHT
TZOFFSETFROM:+0100
TZOFFSETTO:+0200
TZNAME:CEST
DTSTART:20240331T010000
END:DAYLIGHT
BEGIN:STANDARD
TZOFFSETFROM:+0200
TZOFFSETTO:+0100
TZNAME:CET
DTSTART:20241027T010000
END:STANDARD
BEGIN:DAYLIGHT
TZOFFSETFROM:+0100
TZOFFSETTO:+0200
TZNAME:CEST
DTSTART:20250330T010000
END:DAYLIGHT
BEGIN:STANDARD
TZOFFSETFROM:+0200
TZOFFSETTO:+0100
TZNAME:CET
DTSTART:20251026T010000
END:STANDARD
BEGIN:DAYLIGHT
TZOFFSETFROM:+0100
TZOFFSETTO:+0200
TZNAME:CEST
DTSTART:20260329T010000
END:DAYLIGHT
BEGIN:STANDARD
TZOFFSETFROM:+0200
TZOFFSETTO:+0100
TZNAME:CET
DTSTART:20261025T010000
END:STANDARD
END:VTIMEZONE
BEGIN:VEVENT
DTSTART;VALUE=DATE:20250221
DTEND;VALUE=DATE:20250223
DTSTAMP:20260424T143523
CREATED:20250203T160145Z
LAST-MODIFIED:20250203T160145Z
UID:10610-1740096000-1740268799@vamos-muenster.de
SUMMARY:Ernährungskonferenz: Zukunft isst besser
DESCRIPTION:Unsere Ernährung beeinflusst nicht nur unsere eigene Gesundheit\, sondern auch das Leben anderer Menschen und die Zukunft unseres Planeten. Klimawandel\, Umweltzerstörung und Menschenrechtsverletzungen sind dramatische Folgen der industriellen Lebensmittelproduktion. Es ist höchste Zeit für eine Agrar- und Ernährungswende! \nAuf der Ernährungskonferenz „Zukunft isst besser“ wollen wir mit dir herausfinden\, wie diese gelingen kann. \nEingeladen sind alle Interessierten und Engagierten am und im Ernährungssystem. \nSteffi Neumann von Vamos e.V. serviert den 1. Hauptgang mit dem Workshop „FOODSTORIES. Von Küken\, Klima & Karotten“ von 11:30 Uhr bis 13:00 Uhr. Zum Kaffeeklatsch ab 16:15 Uhr ist Vamos mit einem Infostand auf dem Markt der Möglichkeiten vertreten. Komm vorbei und informiere dich über die Möglichkeit Honorarkraft für unsere Arbeit zu werden! \nDas ganze kreative Menu wird sowohl in der B-Side\, als auch in der FH Münster serviert. \nVeranstaltet wird die Ernährungskonferenz von der Christlichen Romero Initiative und dem Ernährungsrat der Stadt Münster \nVamos ist Kooperationspartner.
URL:https://vamos-muenster.de/event/ernaehrungskonferenz-zukunft-isst-besser/
LOCATION:B-Side\, Am Mittelhafen 42
ATTACH;FMTTYPE=image/jpeg:https://vamos-muenster.de/wp-content/uploads/2025/01/Zukunft-isst-besser_Bild-Flyer.jpg
END:VEVENT
END:VCALENDAR