BEGIN:VCALENDAR
VERSION:2.0
PRODID:-//Vamos e.V. - ECPv6.15.17.1//NONSGML v1.0//EN
CALSCALE:GREGORIAN
METHOD:PUBLISH
X-ORIGINAL-URL:https://vamos-muenster.de
X-WR-CALDESC:Veranstaltungen für Vamos e.V.
REFRESH-INTERVAL;VALUE=DURATION:PT1H
X-Robots-Tag:noindex
X-PUBLISHED-TTL:PT1H
BEGIN:VTIMEZONE
TZID:Europe/Paris
BEGIN:DAYLIGHT
TZOFFSETFROM:+0100
TZOFFSETTO:+0200
TZNAME:CEST
DTSTART:20240331T010000
END:DAYLIGHT
BEGIN:STANDARD
TZOFFSETFROM:+0200
TZOFFSETTO:+0100
TZNAME:CET
DTSTART:20241027T010000
END:STANDARD
BEGIN:DAYLIGHT
TZOFFSETFROM:+0100
TZOFFSETTO:+0200
TZNAME:CEST
DTSTART:20250330T010000
END:DAYLIGHT
BEGIN:STANDARD
TZOFFSETFROM:+0200
TZOFFSETTO:+0100
TZNAME:CET
DTSTART:20251026T010000
END:STANDARD
BEGIN:DAYLIGHT
TZOFFSETFROM:+0100
TZOFFSETTO:+0200
TZNAME:CEST
DTSTART:20260329T010000
END:DAYLIGHT
BEGIN:STANDARD
TZOFFSETFROM:+0200
TZOFFSETTO:+0100
TZNAME:CET
DTSTART:20261025T010000
END:STANDARD
END:VTIMEZONE
BEGIN:VEVENT
DTSTART;VALUE=DATE:20250427
DTEND;VALUE=DATE:20250908
DTSTAMP:20260424T013350
CREATED:20250403T123051Z
LAST-MODIFIED:20250403T140645Z
UID:10799-1745712000-1757289599@vamos-muenster.de
SUMMARY:Aktionsmonate & Gewinnspiel: "Über den Tellerrand schauen und fahren"
DESCRIPTION:„Globale Solidarität erkunden und gewinnen: Erlebe die Wandeln & Handeln Routen im Münsterland und besuche unsere Mitmachstation.”\nAb dem 27. April rufen wir während unserer Aktionsmonate auf\, kreative Fotos und / oder Videos an unseren Mitmachstationen zu machen und über Komoot\, Social Media (Instagram\, Facebook oder LinkedIn)\, E-Mail oder Brief mit uns zu teilen. Das Motto lautet: “Über den Tellerrand schauen und fahren”:\nOrientierungsfrage: Wo erlebe ich im Alltag globale Solidarität bzw. wo agiere ich solidarisch mit Menschen an meinem Wohnort oder auch an anderen Orten der Welt?  \nAuf jedem eingereichten Beitrag sollte ein Teil der Mitmachstation\, eine Person und ein Rad zu sehen sein. Ansonsten kann der eigenen Kreativität freien Raum gelassen werden.  \nJeder eingereichte Beitrag kommt in den allgemeinen Lostopf und hat eine Chance einen der Preise zu gewinnen. Die Preise sind von regionalen Unternehmen gesponsort\, die nachhaltige\, langlebige und gewinnwohlorientierte Arbeit leisten. Details folgen bald hier. \nSonderpreise  \nIm Topf für Sonderpreise landen folgende Beiträge:  \n\nBesuch der meisten Mitmachstationen: Fotos /Video mit Fahrrad und gleicher Person  \n\n\nFoto /Video mit den meisten Fahrrädern \n\n\nFoto /Video mit den meisten Personen \n\nBitte über alle Kanäle an @vamosmuenster und #muensterlandgloballokal versenden \nZeitraum \nPhase 1: 27.04.24 bis 25.05.25 \nPhase 2:  26.05 bis 07.09.25 \n  \nWo finde ich die Mitmachstationen im Münsterland?   \nDie genauen Adressen und Hintergründe finden sich hier: https://mlgl.vamos-muenster.de/stationen/   \nBei Fragen: Mail an suessenguth@vamos-muenster.de   \nLink Instagram\nLink Linkedin\nLink Facebook\nLink Komoot \nTeilnahmebedingungen
URL:https://vamos-muenster.de/event/aktionsmonate-gewinnspiel-ueber-den-tellerrand-schauen-und-fahren/
LOCATION:Münsterland\, Im ganzen Münsterland\, NRW\, Germany
ATTACH;FMTTYPE=image/jpeg:https://vamos-muenster.de/wp-content/uploads/2025/04/25-04-03_MLGL2.0_GewinnspielBanner1366-x-350-px-Praesentation.jpg
ORGANIZER;CN="Vamos e.V.":MAILTO:info@vamos-muenster.de
END:VEVENT
BEGIN:VEVENT
DTSTART;VALUE=DATE:20250904
DTEND;VALUE=DATE:20250908
DTSTAMP:20260424T013350
CREATED:20250602T123939Z
LAST-MODIFIED:20250807T115735Z
UID:11034-1756944000-1757289599@vamos-muenster.de
SUMMARY:Wandeln & Handeln Tage 2025 in Warendorf und Umgebung
DESCRIPTION:[vc_row][vc_column][vc_column_text] \n\nWandeln & Handeln Tage Warendorf 2025 – Fair Handeln\, Menschenrechte gestalten\nEin Wochenende voller Wandel vom 4.-7. September 2025\nDu willst Teil des Wandels sein? Dann komm zu den ersten münsterländischen „Wandeln & Handeln“ Aktionstagen vom 4. bis 7. September 2025 nach Warendorf! In einer Stadt\, die ihr 825-jähriges Jubiläum feiert und seit zehn Jahren stolze Fairtrade Town ist\, erwarten dich vier Tage voller Inspiration\, Begegnungen und konkreter Aktionen für eine gerechtere Welt. \nDie Tomate – unser Lieblingsgemüse im Mittelpunkt: Als Lieblingsgemüse der Deutschen steht die Tomate im Zentrum unseres vielfältigen Programms. Von der lokalen „Essbaren Stadt“ bis zu den Arbeitsbedingungen in Süditalien zeigen wir die globalen Zusammenhänge unseres täglichen Konsums auf – und wie wir alle zu faireren Bedingungen beitragen können. \nUnter dem Motto „Fair handeln – Menschenrechte gestalten“ kannst du erleben\, wie Wandel konkret funktioniert – vor deiner Haustür und weltweit. Egal ob du schon lange engagiert bist oder gerade erst neugierig wirst: Hier findest du Gleichgesinnte\, neue Ideen und die Motivation\, selbst aktiv zu werden. Lass dich inspirieren\, diskutiere mit\, mach mit – und entdecke\, wie viel Spaß Engagement für Gerechtigkeit und Nachhaltigkeit machen kann! \nProgramm-Highlights\nDonnerstag\, 4. September: \n\n19:00 Uhr: Film „Das neue Evangelium“ mit anschließendem Filmgespräch mit dem Aktivisten\, Unternehmensgründer und Hauptdarsteller des Milo-Rau-Films Yvan Sagnet (NoCap / Mafiafreie Tomaten) um 19 Uhr im Scala Warendorf.\n\nFreitag: 5. September: \n\n18:00 Uhr: Film „The Pickers“ mit anschließendem Filmgespräch mit dem Aktivisten\, Unternehmensgründer und Hauptdarsteller des Milo-Rau-Films „Das neue Evangelium“ Yvan Sagnet (NoCap / Mafiafreie Tomaten) auf den Emshof Bildungsbauernhof in Telgte bei Münster.\n–> Eine Radanreise ab Münster ist in Planung\, Details folgen.\n\n\nSamstag 6. September (Fach- und Aktionstag) sowie Konzerte und Veranstaltung des Langem Pferdenachtswochendendes \n\nab 11 Uhr:\nFair Trade Town Jubiläum Stadt Warendorf\, Prämierung Ergebnisse Schulwettbewerb\, Mitmachstation Bodenzeitung\, Führungen Mitmachstation\, Wandeln & Handeln Radtour Ostbevern – Warendorf\, Ausstellungen…\n\n\nSonntag\, 7. September (Haupttag): \n\nab 10 Uhr Unterschiedliche geführte Radtouren mit Hofbesuchen rund um Warendorf\, in Kooperation mit dem ADFC Münsterland\nab 12 Uhr: Mitmach-Meile von lokalen Initiativen\, Vereinen und Unternehmen in der Warendorfer Innenstadt\nFamilienbereich mit Aktionen für Jung und Alt mit Getränken und Kuchen / Waffeln an der Mitmachstation Emskolk\nAusstellungen zu Themen lokaler wie globaler Gerechtigkeit und Fairem Handel\nUNSER HIGHLIGHT: 17 Uhr: Parapolitische Mixed-Arts Unterhaltungsshow „Baddabäm“ im Theater am Wall Warendorf\n\nÜber das Wochenende verteilt (6.-7. September): \n\nVielfältige Informations-\, Mitmach- und Bildungsangebote\nMarkt der Möglichkeiten mit lokalen Engagierten\nDiskussionsformate zur lokalen Umsetzung der UN-Nachhaltigkeitsziele (SDGs)\nKünstlerische Mitmachaktionen\nRadtouren und Spaziergänge\n\nDie Wandeln & Handeln Tage werden gemeinschaftlich mit lokalen Akteur:innen entwickelt und bieten eine Plattform für alle\, die sich für eine nachhaltige und gerechte Zukunft einsetzen möchten. Weitere Programmpunkte werden laufend ergänzt. \nKontakt und Information: Vamos e.V.\, Tore Süßenguth E-Mail: suessenguth@vamos-muenster.de oder Laura Antosch antosch@vamos-muenster.de\nTelefon: 0251-45431 \nMehr Informationen zum Gesamtprojekt: www.vamos-mlgl.de \nDas Projekt MLGL 2.0 „engagiert.nachhaltig.bewegt – Münsterland Global Lokal“ läuft von Mai 2024 bis Mai 2026 und wird gefördert von: \nFörderer: \nGefördert von ENGAGEMENT GLOBAL im Auftrag des  \n  \n[/vc_column_text][/vc_column][/vc_row][vc_row css=“.vc_custom_1754571449833{margin-bottom: 1px !important;padding-bottom: 1px !important;}“][vc_column width=“2/3″ css=“.vc_custom_1754571410222{margin-top: 1px !important;padding-top: 1px !important;}“][vc_single_image image=“11493″ img_size=“630×219″ onclick=“custom_link“ img_link_target=“_blank“ css=“.vc_custom_1754570001801{margin-bottom: 1px !important;padding-bottom: 1px !important;}“ image_hovers=“false“ link=“https://mlgl.vamos-muenster.de/termin/warm-up-wandeln-handeln-tage-feierabend-radtour-mit-kulinarischem-ausklang-auf-dem-emshof/“][vc_single_image image=“11494″ img_size=“630×220″ onclick=“custom_link“ img_link_target=“_blank“ css=“.vc_custom_1754570063208{margin-bottom: 3px !important;}“ link=“https://mlgl.vamos-muenster.de/termin/filmvorfuehrung-das-neue-evangelium-mit-yvan-sagnet-als-gast/“][vc_single_image image=“11495″ img_size=“630×232″ onclick=“custom_link“ img_link_target=“_blank“ css=“.vc_custom_1754570098558{margin-bottom: 3px !important;}“ link=“https://mlgl.vamos-muenster.de/termin/wandeln-handeln-infostand-beim-wochenmarkt-warendorf/“][vc_single_image image=“11496″ img_size=“630×219″ onclick=“custom_link“ img_link_target=“_blank“ css=““ link=“https://mlgl.vamos-muenster.de/termin/begleite-radanreise-filmgespraech-the-pickers-auf-dem-emshof-telgte/“][vc_single_image image=“11497″ img_size=“630×219″ onclick=“custom_link“ img_link_target=“_blank“ css=““ link=“https://mlgl.vamos-muenster.de/termin/the-pickers-filmabend-auf-dem-emshof-mit-yvan-sagnet/“][vc_single_image image=“11498″ img_size=“630×219″ onclick=“custom_link“ img_link_target=“_blank“ css=““ link=“https://mlgl.vamos-muenster.de/termin/praesentation-ergebnisse-schulwettbewerb-warendorfair-handeln/“][vc_single_image image=“11499″ img_size=“630×222″ onclick=“custom_link“ img_link_target=“_blank“ css=““ link=“https://mlgl.vamos-muenster.de/termin/interaktive-fuehrung-an-der-mitmachstation-tomate-passiert-ausbeutung-auch-2/“][vc_single_image image=“11500″ img_size=“630×216″ onclick=“custom_link“ img_link_target=“_blank“ css=““ link=“https://mlgl.vamos-muenster.de/termin/mitreden-und-aktiv-werden-auf-mitmach-und-aktionsflaeche/“][vc_single_image image=“11501″ img_size=“630×220″ onclick=“custom_link“ img_link_target=“_blank“ css=““ link=“https://mlgl.vamos-muenster.de/termin/sternfahrt-ostbevern-warendorf-zu-den-wandeln-handeln-tage/“][vc_single_image image=“11502″ img_size=“630×219″ onclick=“custom_link“ img_link_target=“_blank“ css=““ link=“https://mlgl.vamos-muenster.de/termin/mitmachmeile-der-wandeln-handeln-tage/“][vc_single_image image=“11503″ img_size=“630×219″ onclick=“custom_link“ img_link_target=“_blank“ css=““ link=“https://mlgl.vamos-muenster.de/termin/radsternfahrten-mit-dem-adfc-muensterland-nach-warendorf/“][vc_single_image image=“11504″ img_size=“630×219″ onclick=“custom_link“ img_link_target=“_blank“ css=““ link=“https://mlgl.vamos-muenster.de/termin/radtour-faire-lebensmittel-und-landwirtschaft-rund-um-warendorf/“][vc_single_image image=“11505″ img_size=“630×219″ onclick=“custom_link“ img_link_target=“_blank“ css=““ link=“https://mlgl.vamos-muenster.de/termin/dialogtisch-auf-ein-gespraech-mit/“][vc_single_image image=“11506″ img_size=“630×219″ onclick=“custom_link“ img_link_target=“_blank“ css=““ link=“https://mlgl.vamos-muenster.de/termin/tomaten-tasting-an-der-familien-wiese/“][vc_single_image image=“11507″ img_size=“630×216″ onclick=“custom_link“ img_link_target=“_blank“ css=““ link=“https://mlgl.vamos-muenster.de/termin/familen-wiese-zum-spielen-snacken-und-selbermachen-menschenrechte-spielerisch-erleben/“][vc_single_image image=“11508″ img_size=“630×219″ onclick=“custom_link“ img_link_target=“_blank“ css=““ link=“https://mlgl.vamos-muenster.de/termin/engagement-boerse-speeddating-rund-um-die-mixed-arts-show-baddabaem-was-isst-das-muensterland/“][vc_single_image image=“11509″ img_size=“630×219″ onclick=“custom_link“ img_link_target=“_blank“ css=““ link=“https://mlgl.vamos-muenster.de/termin/was-isst-das-muensterland-mixed-arts-show-baddabaem-die-parapolitische-abendshow-2/“][/vc_column][vc_column width=“1/3″][/vc_column][/vc_row]
URL:https://vamos-muenster.de/event/wandeln-und-handeln-tage-2025-in-warendorf-und-umgebung/
LOCATION:Stadt Warendorf
ATTACH;FMTTYPE=image/png:https://vamos-muenster.de/wp-content/uploads/2024/07/25-06.02_webseiteWANhandhighlights.png
ORGANIZER;CN="Vamos e.V.":MAILTO:info@vamos-muenster.de
END:VEVENT
BEGIN:VEVENT
DTSTART;TZID=Europe/Paris:20250904T190000
DTEND;TZID=Europe/Paris:20250904T213000
DTSTAMP:20260424T013350
CREATED:20250724T103834Z
LAST-MODIFIED:20250805T131616Z
UID:11171-1757012400-1757021400@vamos-muenster.de
SUMMARY:Filmvorführung: „Das neue Evangelium“ mit Yvan Sagnet als Gast
DESCRIPTION:Das neue Evangelium  \nSchweiz 2020\, 103 Min.\, von Milo Rau  \nWas würde Jesus im 21. Jahrhundert predigen und wer wären seine Jünger? Mit diesen Fragen setzt sich „Das neue Evangelium„\, eine Mischung aus Dokumentarfilm\, politischem Sozialdrama und Historienfilm\, auseinander.  \nJesus kehrt als „Menschenfischer“ in das größte der Flüchtlingslager bei Matera zurück. Unter den dort Gestrandeten\, findet er seine „Jünger“. Verzweifelte\, die über das Mittelmeer nach Europa gekommen sind und dort unter unmenschlichen Bedingungen in regelrechten Ghettos hausen und als Erntehelfer:innen arbeiten. Gemeinsam mit ansässigen Kleinbäuerinnen und -bauern begründen sie eine politische Kampagne\, die für die Rechte von Migrantinnen und Migranten kämpft.  \nGemeinsam mit dem Politaktivisten Yvan Sagnet\, der Jesus verkörpert\, erschafft Milo Rau eine zutiefst biblische Geschichte\, die nicht nur die Passionsgeschichte neu erzählt\, sondern auch einen kritischen Blick auf Europa und seinen Umgang mit Geflüchteten und Erntehelfer:innen wirft  \nIm Anschluss an den Film wartet ein besonderes Highlight: ein persönliches Gespräch mit dem Hauptdarsteller Yvan Sagnet.  \nZum Trailer\nIm Kooperation mit dem Eine-Welt Regionalpromotorin Programm NRW und dem Haus der Familie Warendorf.  \nTickets alsbald auf der Webseite des Kinos. \nOmU (deutscher Untertitel) \nDie Veranstaltung findet im Rahmen der ersten Münsterländer Wandeln & Handeln Tage statt. Sei dabei und entdecke vom 4.-7. September in Warendorf\, wie aus Wissen Handeln wird! Unter dem Motto „Fair Handeln – Menschenrechte gestalten“ verwandelt sich die Pferdestadt in ein lebendiges Mitmach-Labor mit vielen Angeboten bei unterschiedlichen Veranstaltungen\, wo jede:r die Möglichkeit hat\, eigene Ideen für Nachhaltigkeit\, Fairen Handel und globale Gerechtigkeit zu entwickeln und umzusetzen. Mehr Infos und das Programm hier:   \n  \n 
URL:https://vamos-muenster.de/event/filmvorfuehrung-das-neue-evangelium-mit-yvan-sagnet-als-gast/
LOCATION:Scala Warendorf\, Klosterstraße 5\, Warendorf\, 48231\, Deutschland
ATTACH;FMTTYPE=image/png:https://vamos-muenster.de/wp-content/uploads/2025/07/Vorfuerung_Das_Neue_Evangelium_trzp.png
END:VEVENT
END:VCALENDAR