BEGIN:VCALENDAR
VERSION:2.0
PRODID:-//Vamos e.V. - ECPv6.15.17.1//NONSGML v1.0//EN
CALSCALE:GREGORIAN
METHOD:PUBLISH
X-ORIGINAL-URL:https://vamos-muenster.de
X-WR-CALDESC:Veranstaltungen für Vamos e.V.
REFRESH-INTERVAL;VALUE=DURATION:PT1H
X-Robots-Tag:noindex
X-PUBLISHED-TTL:PT1H
BEGIN:VTIMEZONE
TZID:Europe/Paris
BEGIN:DAYLIGHT
TZOFFSETFROM:+0100
TZOFFSETTO:+0200
TZNAME:CEST
DTSTART:20240331T010000
END:DAYLIGHT
BEGIN:STANDARD
TZOFFSETFROM:+0200
TZOFFSETTO:+0100
TZNAME:CET
DTSTART:20241027T010000
END:STANDARD
BEGIN:DAYLIGHT
TZOFFSETFROM:+0100
TZOFFSETTO:+0200
TZNAME:CEST
DTSTART:20250330T010000
END:DAYLIGHT
BEGIN:STANDARD
TZOFFSETFROM:+0200
TZOFFSETTO:+0100
TZNAME:CET
DTSTART:20251026T010000
END:STANDARD
BEGIN:DAYLIGHT
TZOFFSETFROM:+0100
TZOFFSETTO:+0200
TZNAME:CEST
DTSTART:20260329T010000
END:DAYLIGHT
BEGIN:STANDARD
TZOFFSETFROM:+0200
TZOFFSETTO:+0100
TZNAME:CET
DTSTART:20261025T010000
END:STANDARD
END:VTIMEZONE
BEGIN:VEVENT
DTSTART;TZID=Europe/Paris:20250921T100000
DTEND;TZID=Europe/Paris:20250921T100000
DTSTAMP:20260424T014046
CREATED:20250901T125157Z
LAST-MODIFIED:20250901T184144Z
UID:11717-1758448800-1758448800@vamos-muenster.de
SUMMARY:Empathisch über das Klima sprechen - praktische Übungen
DESCRIPTION:Vamos e.V. bietet zusammen mit dem Sozialpädagogischen Bildungswerk (Sobi)\, in der Achtermannstraße 10-12 am 21. September um 10.00 Uhr einen Workshop zum Thema „Gespräche über das Klima und die Erderwärmung“ an. Da bloßes Wissen über die Erderwärmung und dessen Folgen nicht ausreicht\, um klimafreundliches Verhalten im Alltag effektiv zu fördern\, müssen wir darüber reden und ein gemeinsames Bewusstsein schaffen. Doch wie gestaltet man solche Gespräche\, ohne aus dem eigenen emotionalen Gleichgewicht zu geraten oder dem Gegenüber ein solches Gefühl zu vermitteln? Wie geht man mit an den Haaren herbeigezogenen Argumenten um und antwortet wahrheitsgemäß\, aber gleichzeitig respektvoll – eben empathisch – darauf?\nZiel des Workshops ist es\, eine wertschätzende Kommunikation miteinander\, über das Klima zu erleichtern und so klimafreundliches Verhalten zu fördern.
URL:https://vamos-muenster.de/event/empathisch-ueber-das-klima-sprechen-praktische-uebungen/
LOCATION:Sobi\, Achtermannstraße 10-12\, Münster\, Germany
ATTACH;FMTTYPE=image/jpeg:https://vamos-muenster.de/wp-content/uploads/2025/09/Klimakommunkation.jpg
END:VEVENT
END:VCALENDAR