BEGIN:VCALENDAR
VERSION:2.0
PRODID:-//Vamos e.V. - ECPv6.15.17.1//NONSGML v1.0//EN
CALSCALE:GREGORIAN
METHOD:PUBLISH
X-ORIGINAL-URL:https://vamos-muenster.de
X-WR-CALDESC:Veranstaltungen für Vamos e.V.
REFRESH-INTERVAL;VALUE=DURATION:PT1H
X-Robots-Tag:noindex
X-PUBLISHED-TTL:PT1H
BEGIN:VTIMEZONE
TZID:Europe/Paris
BEGIN:DAYLIGHT
TZOFFSETFROM:+0100
TZOFFSETTO:+0200
TZNAME:CEST
DTSTART:20240331T010000
END:DAYLIGHT
BEGIN:STANDARD
TZOFFSETFROM:+0200
TZOFFSETTO:+0100
TZNAME:CET
DTSTART:20241027T010000
END:STANDARD
BEGIN:DAYLIGHT
TZOFFSETFROM:+0100
TZOFFSETTO:+0200
TZNAME:CEST
DTSTART:20250330T010000
END:DAYLIGHT
BEGIN:STANDARD
TZOFFSETFROM:+0200
TZOFFSETTO:+0100
TZNAME:CET
DTSTART:20251026T010000
END:STANDARD
BEGIN:DAYLIGHT
TZOFFSETFROM:+0100
TZOFFSETTO:+0200
TZNAME:CEST
DTSTART:20260329T010000
END:DAYLIGHT
BEGIN:STANDARD
TZOFFSETFROM:+0200
TZOFFSETTO:+0100
TZNAME:CET
DTSTART:20261025T010000
END:STANDARD
END:VTIMEZONE
BEGIN:VEVENT
DTSTART;TZID=Europe/Paris:20250928T110000
DTEND;TZID=Europe/Paris:20250928T160000
DTSTAMP:20260424T014208
CREATED:20250804T090642Z
LAST-MODIFIED:20250828T141617Z
UID:11521-1759057200-1759075200@vamos-muenster.de
SUMMARY:Abwechslungsreiche Naturschutz-Radtour Telgte/ Ostbevern (mit Zusatzstart in Münster)
DESCRIPTION:[vc_row][vc_column][vc_column_text css=““]BNE-Schulbauernhof Emshof\, Nabu-Naturschutzgebiete\, Mitmachstation Renaturierung/Erosion\, Bio-Milchhof Fockenbrock\, Emsauen Telgte. \n  \nWir starten von zwei Ausgangspunkten aus zum Emshof in Telgte. \n\nAm Bahnhof Telgte startet die Tour\, geführt von Radguide Yvonne Ganzert\, um 11.35 Uhr ab Bahnhofvorplatz.\nVon Münster aus machen wir uns\, geführt von Radguide Bernd Uppena\, um 11 Uhr auf den Weg zum Emshof.\nTreffpunkt: Schleuse Münster Ost (Schifffahrter Damm 192\, 48145 Münster)\n\nAuf dem Emshof\, der besonderen BNE-Einrichtung (Bildung für nachhaltige Entwicklung) gibt es eine Hofbegehung\, die Informationen zur Nutzung und den Angeboten des Schulbauernhofes vermittelt. \nVorbei am Haus Langen geht es dann zur Aussichtsplattform Pöhlen am Nabu-Schutzgebiet mit Wildpferden und Heckrindern. Über Westbevern (Alter Speicher) und vorbei an einem Renaturierungsprojekt an der Bever mit ehemaliger Wallburg fahren wir dann nach Ostbevern zur dortigen Renaturierungsmaßnahme und zur Mitmachstation „Bäume und Böden“. Dort erfahren wir u.a. welche Verbindung zwischen Ostbevern und Ruanda besteht.\nWeitere Stationen sind das Naturschutzgebiet Schirlheide und der Bio-Milchhof Fockenbrock\, bevor es dann durch die Emsauen zurück nach Telgte geht. \nDie Strecke der Naturschutztour beträgt 33 Km. Dauer ca. 5 Stunden. \nFür die Teilnehmer:innen aus Münster kommen ca. 20 Km für Hin- u. Rückfahrt hinzu. \nDas Tourentempo wird von den Bio-Bikes bestimmt. Teilnehmen können alle zwei-/dreirädigen Fahrräder. \nAnmeldung erforderlich. Bitte hier klicken. \nSpende vor Ort erwünscht +/- 10 €[/vc_column_text][/vc_column][/vc_row]
URL:https://vamos-muenster.de/event/abwechslungsreiche-naturschutz-radtour-telgte-ostbevern-mit-zusatzstart-in-muenster/
LOCATION:Telgte Bahnhof\, Bahnhofstraße 53\, Telgte\, 48291
ATTACH;FMTTYPE=image/png:https://vamos-muenster.de/wp-content/uploads/2025/08/Vorfuerung_Das_Neue_Evangelium-6.png
ORGANIZER;CN="Vamos e.V.":MAILTO:info@vamos-muenster.de
END:VEVENT
END:VCALENDAR