BEGIN:VCALENDAR
VERSION:2.0
PRODID:-//Vamos e.V. - ECPv6.15.17.1//NONSGML v1.0//EN
CALSCALE:GREGORIAN
METHOD:PUBLISH
X-ORIGINAL-URL:https://vamos-muenster.de
X-WR-CALDESC:Veranstaltungen für Vamos e.V.
REFRESH-INTERVAL;VALUE=DURATION:PT1H
X-Robots-Tag:noindex
X-PUBLISHED-TTL:PT1H
BEGIN:VTIMEZONE
TZID:Europe/Paris
BEGIN:DAYLIGHT
TZOFFSETFROM:+0100
TZOFFSETTO:+0200
TZNAME:CEST
DTSTART:20240331T010000
END:DAYLIGHT
BEGIN:STANDARD
TZOFFSETFROM:+0200
TZOFFSETTO:+0100
TZNAME:CET
DTSTART:20241027T010000
END:STANDARD
BEGIN:DAYLIGHT
TZOFFSETFROM:+0100
TZOFFSETTO:+0200
TZNAME:CEST
DTSTART:20250330T010000
END:DAYLIGHT
BEGIN:STANDARD
TZOFFSETFROM:+0200
TZOFFSETTO:+0100
TZNAME:CET
DTSTART:20251026T010000
END:STANDARD
BEGIN:DAYLIGHT
TZOFFSETFROM:+0100
TZOFFSETTO:+0200
TZNAME:CEST
DTSTART:20260329T010000
END:DAYLIGHT
BEGIN:STANDARD
TZOFFSETFROM:+0200
TZOFFSETTO:+0100
TZNAME:CET
DTSTART:20261025T010000
END:STANDARD
END:VTIMEZONE
BEGIN:VEVENT
DTSTART;TZID=Europe/Paris:20251023T190000
DTEND;TZID=Europe/Paris:20251023T213000
DTSTAMP:20260424T000216
CREATED:20250929T110500Z
LAST-MODIFIED:20250929T113342Z
UID:11821-1761246000-1761255000@vamos-muenster.de
SUMMARY:23.10.2025\, KlimaCafé im Sobi
DESCRIPTION:Im Sozialpädagogischen Bildungswerk (Sobi)\, in der Achtermannstraße 10-12 findet am 23. Oktober um 19.00 Uhr ein KlimaCafé statt. Mit Hilfe des Konzeptes\, welches international an verschiedenen Orten angeboten wird\, möchten wir einen Raum schaffen\, uns über die unterschiedlichsten Gedanken und Gefühle in Verbindung mit der allgegenwärtigen Transformation auszutauschen. Wir möchten uns auf Augenhöhe begegnen und dadurch Verständnis\, Selbstfürsorge und Zusammenhalt stärken.\nDie Teilnahme ist kostenlos\, um Anmeldung wird gebeten. \nWeiter Infos findest Du hier. \nIn Kooperation mit dem
URL:https://vamos-muenster.de/event/23-10-2025-klimacafe-im-sobi/
LOCATION:Raum 4 – 4. Etage Achtermannstr. 10-12 48143 Münster\, Achtermannstr. 10.-12\, Münster\, 48143
ATTACH;FMTTYPE=image/jpeg:https://vamos-muenster.de/wp-content/uploads/2025/09/Klimakommunkation.jpg
END:VEVENT
END:VCALENDAR