BEGIN:VCALENDAR
VERSION:2.0
PRODID:-//Vamos e.V. - ECPv6.15.17.1//NONSGML v1.0//EN
CALSCALE:GREGORIAN
METHOD:PUBLISH
X-ORIGINAL-URL:https://vamos-muenster.de
X-WR-CALDESC:Veranstaltungen für Vamos e.V.
REFRESH-INTERVAL;VALUE=DURATION:PT1H
X-Robots-Tag:noindex
X-PUBLISHED-TTL:PT1H
BEGIN:VTIMEZONE
TZID:Europe/Paris
BEGIN:DAYLIGHT
TZOFFSETFROM:+0100
TZOFFSETTO:+0200
TZNAME:CEST
DTSTART:20250330T010000
END:DAYLIGHT
BEGIN:STANDARD
TZOFFSETFROM:+0200
TZOFFSETTO:+0100
TZNAME:CET
DTSTART:20251026T010000
END:STANDARD
BEGIN:DAYLIGHT
TZOFFSETFROM:+0100
TZOFFSETTO:+0200
TZNAME:CEST
DTSTART:20260329T010000
END:DAYLIGHT
BEGIN:STANDARD
TZOFFSETFROM:+0200
TZOFFSETTO:+0100
TZNAME:CET
DTSTART:20261025T010000
END:STANDARD
BEGIN:DAYLIGHT
TZOFFSETFROM:+0100
TZOFFSETTO:+0200
TZNAME:CEST
DTSTART:20270328T010000
END:DAYLIGHT
BEGIN:STANDARD
TZOFFSETFROM:+0200
TZOFFSETTO:+0100
TZNAME:CET
DTSTART:20271031T010000
END:STANDARD
END:VTIMEZONE
BEGIN:VEVENT
DTSTART;TZID=Europe/Paris:20260108T123000
DTEND;TZID=Europe/Paris:20260108T130000
DTSTAMP:20260423T192208
CREATED:20251127T142325Z
LAST-MODIFIED:20251127T142325Z
UID:12103-1767875400-1767877200@vamos-muenster.de
SUMMARY:Kunstpause mit dem Friedenstisch
DESCRIPTION:Vamos gestaltet die Kunstpause am 08. Januar 2026 12:30-13 Uhr\nAm 08.01.2026 gestalten wir von Vamos die Kunstpause aktiv mit. Herzliche Einladung mit uns am Tisch über Fragen rund und Frieden und Menschenrechte zu sprechen. \nZum Tag der Menschenrechte am 10. Dezember 2025 eröffnet das Eine-Welt-Forum Münster e.V. die Kunstausstellung „Menschenrechte“ in der Diözesanbibliothek Münster. \nDie Ausstellung ist eine Gemeinschaftsarbeit der Gruppe „Künstler:innen für Menschenrechte“ aus dem Raum Marburg/Gießen. Mit Skulpturen\, Gemälden\, Fotoarbeiten und Installationen thematisiert die Gruppe Fassetten der Verweigerung von Menschenrechten\, in Deutschland und weltweit. \nKunstpause: ein wöchentliches Begleitprogramm\nImmer Donnerstags um 12:30 Uhr lädt die Diözesanbibliothek zur 30-minütigen Kunstpause ein\, mit Führungen\, Lesungen oder Gesprächen über Menschenrechtsarbeit in Münster. \nUnser Friedenstisch wird während des gesamten Ausstellungszeitraums (10.12.25-23.01.26) präsent sein. Er stellt einen Ort\, an dem wir gemeinsam über Menschenrechte\, Frieden\, globale Gerechtigkeit und Handlungsmöglichkeiten ins Gespräch kommen möchten. \nWir freuen uns auf den Austausch mit allen Besucher:innen und darauf\, Teil der Ausstellung zu sein.
URL:https://vamos-muenster.de/event/kunstpause-mit-dem-friedenstisch/
LOCATION:Diözesanbibliothek\, Überwasserkirchplatz 2\, Münster\, Germany
ATTACH;FMTTYPE=image/jpeg:https://vamos-muenster.de/wp-content/uploads/2025/11/IMG_3160-scaled.jpg
END:VEVENT
END:VCALENDAR