BEGIN:VCALENDAR
VERSION:2.0
PRODID:-//Vamos e.V. - ECPv6.15.17.1//NONSGML v1.0//EN
CALSCALE:GREGORIAN
METHOD:PUBLISH
X-ORIGINAL-URL:https://vamos-muenster.de
X-WR-CALDESC:Veranstaltungen für Vamos e.V.
REFRESH-INTERVAL;VALUE=DURATION:PT1H
X-Robots-Tag:noindex
X-PUBLISHED-TTL:PT1H
BEGIN:VTIMEZONE
TZID:Europe/Paris
BEGIN:DAYLIGHT
TZOFFSETFROM:+0100
TZOFFSETTO:+0200
TZNAME:CEST
DTSTART:20250330T010000
END:DAYLIGHT
BEGIN:STANDARD
TZOFFSETFROM:+0200
TZOFFSETTO:+0100
TZNAME:CET
DTSTART:20251026T010000
END:STANDARD
BEGIN:DAYLIGHT
TZOFFSETFROM:+0100
TZOFFSETTO:+0200
TZNAME:CEST
DTSTART:20260329T010000
END:DAYLIGHT
BEGIN:STANDARD
TZOFFSETFROM:+0200
TZOFFSETTO:+0100
TZNAME:CET
DTSTART:20261025T010000
END:STANDARD
BEGIN:DAYLIGHT
TZOFFSETFROM:+0100
TZOFFSETTO:+0200
TZNAME:CEST
DTSTART:20270328T010000
END:DAYLIGHT
BEGIN:STANDARD
TZOFFSETFROM:+0200
TZOFFSETTO:+0100
TZNAME:CET
DTSTART:20271031T010000
END:STANDARD
END:VTIMEZONE
BEGIN:VEVENT
DTSTART;TZID=Europe/Paris:20260424T123000
DTEND;TZID=Europe/Paris:20260424T140000
DTSTAMP:20260423T121956
CREATED:20260310T154230Z
LAST-MODIFIED:20260310T154230Z
UID:12421-1777033800-1777039200@vamos-muenster.de
SUMMARY:Eröffnung der Mitmachstation Trinkwasser in Senden
DESCRIPTION:[vc_row][vc_column][vc_column_text css=““]Gemeinsam mit Praktiker:innen aus der Trinkwasserwirtschaft\, Vertreter:innen der Gemeinde Senden\, lokalen Initiativen und Schüler:innen wurden Ideen\, Symbole und interaktive Elemente für eine Glokale Mitmachstation zum Thema „Gerechte Trinkwassernutzung lokal wie global“ gesammelt\, entwickelt und konstruiert. Entstanden sind vier Stelen entlang der Stever nahe der Kanalunterführung\, die zum Entdecken\, Mitmachen und Nachdenken einladen. \n\n\nFreut euch zur Eröffnung auf ein abwechslungsreiches Programm mit verschiedensten Mitmachaktionen! \nZur Planung des Caterings bitten wir um Anmeldung an suessenguth@vamos-muenster.de bis zum 21.4. \n\nLink Google Maps zum Ort der Eröffnung: \n\n[/vc_column_text][/vc_column][/vc_row]
URL:https://vamos-muenster.de/event/eroeffnung-der-mitmachstation-trinkwasser-in-senden/
LOCATION:Düker Senden\, hinter Schloss Senden an der Kanalunterführung der Stever
ATTACH;FMTTYPE=image/jpeg:https://vamos-muenster.de/wp-content/uploads/2025/11/251030_Ahlen_Eroeffnung_2Q2A2102-scaled.jpg
END:VEVENT
END:VCALENDAR