BEGIN:VCALENDAR
VERSION:2.0
PRODID:-//Vamos e.V. - ECPv6.15.17.1//NONSGML v1.0//EN
CALSCALE:GREGORIAN
METHOD:PUBLISH
X-ORIGINAL-URL:https://vamos-muenster.de
X-WR-CALDESC:Veranstaltungen für Vamos e.V.
REFRESH-INTERVAL;VALUE=DURATION:PT1H
X-Robots-Tag:noindex
X-PUBLISHED-TTL:PT1H
BEGIN:VTIMEZONE
TZID:Europe/Paris
BEGIN:DAYLIGHT
TZOFFSETFROM:+0100
TZOFFSETTO:+0200
TZNAME:CEST
DTSTART:20250330T010000
END:DAYLIGHT
BEGIN:STANDARD
TZOFFSETFROM:+0200
TZOFFSETTO:+0100
TZNAME:CET
DTSTART:20251026T010000
END:STANDARD
BEGIN:DAYLIGHT
TZOFFSETFROM:+0100
TZOFFSETTO:+0200
TZNAME:CEST
DTSTART:20260329T010000
END:DAYLIGHT
BEGIN:STANDARD
TZOFFSETFROM:+0200
TZOFFSETTO:+0100
TZNAME:CET
DTSTART:20261025T010000
END:STANDARD
BEGIN:DAYLIGHT
TZOFFSETFROM:+0100
TZOFFSETTO:+0200
TZNAME:CEST
DTSTART:20270328T010000
END:DAYLIGHT
BEGIN:STANDARD
TZOFFSETFROM:+0200
TZOFFSETTO:+0100
TZNAME:CET
DTSTART:20271031T010000
END:STANDARD
END:VTIMEZONE
BEGIN:VEVENT
DTSTART;TZID=Europe/Paris:20260425T103000
DTEND;TZID=Europe/Paris:20260425T170000
DTSTAMP:20260423T133825
CREATED:20260217T134423Z
LAST-MODIFIED:20260331T153450Z
UID:12281-1777113000-1777136400@vamos-muenster.de
SUMMARY:Radsaisonauftakt Trinkwasserroute Münster – Senden – Nottuln
DESCRIPTION:[vc_row][vc_column][vc_column_text css=““] \n\nZum Saisonauftakt der Wandeln & Handeln Routen fahren wir ab Münster einen Teil der neuen Trinkwasserroute nach Senden und an der Stever bis Nottuln. Wir stoppen an der neuen Mitmachstation zur gerechten Trinkwassernutzung am Kanal in Senden\, fahren an der renaturierten Stever weiter zum Radaktionstag des Kreis Coesfeld nach Nottuln. Durch kleine Impulse aus der Region wie weltweit laden wir ein sich über den einfachen wie schweren Zugang zu Trinkwasser auszutauschen. Beim Radaktionstag gibt es vielfältige Stände zu erkunden sowie Getränke und Snacks.\n\n\n\n\n\n\n\n\n\n\nRadguides: Bernd Uppena (01575 7338972) und Tore Süßenguth\nGeeignet für alle Fahrräder von Biobike bis Pedelec\nGeschwindigkeit: 15-18 km/h\nStreckenlänge Hinfahrt: ca. 35 km\nOberflächenqualität: fester Belag \nStart: 10:30 Uhr \nTreffpunkt: Jugendgästehaus Münster\, Bismarckalle 31 \nAnkunft in Nottuln: 13:30 – 14 Uhr \nDie Rückfahrt kann individuell oder in Absprache mit der Gruppe erfolgen. \nAnmeldung JETZT hier: \n\n\n\n\n\n\n\n\n\n[/vc_column_text][/vc_column][/vc_row]
URL:https://vamos-muenster.de/event/radsaisonauftakt-trinkwasserroute-muenster-senden-nottuln/
LOCATION:NRW
ATTACH;FMTTYPE=image/jpeg:https://vamos-muenster.de/wp-content/uploads/2026/02/Radtour-scaled-e1771316765246.jpg
ORGANIZER;CN="Vamos e.V.":MAILTO:info@vamos-muenster.de
END:VEVENT
END:VCALENDAR