BEGIN:VCALENDAR
VERSION:2.0
PRODID:-//Vamos e.V. - ECPv6.15.17.1//NONSGML v1.0//EN
CALSCALE:GREGORIAN
METHOD:PUBLISH
X-ORIGINAL-URL:https://vamos-muenster.de
X-WR-CALDESC:Veranstaltungen für Vamos e.V.
REFRESH-INTERVAL;VALUE=DURATION:PT1H
X-Robots-Tag:noindex
X-PUBLISHED-TTL:PT1H
BEGIN:VTIMEZONE
TZID:Europe/Paris
BEGIN:DAYLIGHT
TZOFFSETFROM:+0100
TZOFFSETTO:+0200
TZNAME:CEST
DTSTART:20240331T010000
END:DAYLIGHT
BEGIN:STANDARD
TZOFFSETFROM:+0200
TZOFFSETTO:+0100
TZNAME:CET
DTSTART:20241027T010000
END:STANDARD
BEGIN:DAYLIGHT
TZOFFSETFROM:+0100
TZOFFSETTO:+0200
TZNAME:CEST
DTSTART:20250330T010000
END:DAYLIGHT
BEGIN:STANDARD
TZOFFSETFROM:+0200
TZOFFSETTO:+0100
TZNAME:CET
DTSTART:20251026T010000
END:STANDARD
BEGIN:DAYLIGHT
TZOFFSETFROM:+0100
TZOFFSETTO:+0200
TZNAME:CEST
DTSTART:20260329T010000
END:DAYLIGHT
BEGIN:STANDARD
TZOFFSETFROM:+0200
TZOFFSETTO:+0100
TZNAME:CET
DTSTART:20261025T010000
END:STANDARD
END:VTIMEZONE
BEGIN:VEVENT
DTSTART;TZID=Europe/Paris:20250214T160000
DTEND;TZID=Europe/Paris:20250214T180000
DTSTAMP:20260424T124104
CREATED:20250203T160205Z
LAST-MODIFIED:20250203T160205Z
UID:10618-1739548800-1739556000@vamos-muenster.de
SUMMARY:Bundesweiter Klimastreik
DESCRIPTION:Wir müssen über das sprechen\, was wirklich zählt. Für eine gerechte\, friedliche Welt müssen wir die Klimakrise eindämmen. Dafür muss jede Partei den Klimaschutz ernst nehmen – unabhängig davon\, ob gerade Wahl ist oder die nächste Hitzewelle kommt. Lasst uns auf die Straßen gehen\, die Debatte zurückerobern und gemeinsam für eine lebenswerte Zukunft kämpfen. Wir werden am 14.02. beim bundesweiten Klimastreik\, kurz vor den Bundestagswahlen\, wieder so richtig laut und machen klar: Kein Wahlkampf ohne Klima\, keine Regierung ohne Klimaschutz! Um 16 Uhr beginnt die Demonstration in Münster an der Lambertikirche. \nMehr Infos gibt es hier. \nUnd hier geht es direkt zu den Forderungen von Friedas For Future.
URL:https://vamos-muenster.de/event/bundesweiter-klimastreik/
LOCATION:Lambertikirche\, Münster\, Germany
ATTACH;FMTTYPE=image/png:https://vamos-muenster.de/wp-content/uploads/2025/01/Klimastreik.png
END:VEVENT
BEGIN:VEVENT
DTSTART;TZID=Europe/Paris:20250215T100000
DTEND;TZID=Europe/Paris:20250216T170000
DTSTAMP:20260424T124104
CREATED:20241217T094159Z
LAST-MODIFIED:20250123T150532Z
UID:10579-1739613600-1739725200@vamos-muenster.de
SUMMARY:Messe Leezenfühling Vamos-Mitmachstand
DESCRIPTION:Wir sind am Wochenende 15. & 16.Februar 2025 (Sa. 10-18\, So\, 10.17 Uhr) mit unserem Mitmachstand zu den Wandeln &Handeln Radrouten in der Halle Münsterland in Münster vertreten. Dort findet der Leezenfrühling\, die Messe für Rad\, Reise\, Freizeit und nachhaltige Mobilität im Herzen der Fahrradkultur statt und bietet neue\, frische Ideen für den alltäglichen oder besonderen Gebrauch des Fahrrades.Besucht uns gerne und gestaltet unsere Mitmachrouten mit. Wir präsentieren dort erstmalig unsere neue mobile Mitmachstation. \nZudem laden wir ein\, gemeinsam mit uns kreativ zu werden. Wir bieten eine Aktion besonders für Kinder an\, um Eltern Zeit zu Erkunden zu ermöglichen. \nAm einem kreativen Mitmachstand wollen wir gemeinsam Steine unter Anleitung bemalen\, die anschließend an Orten des nachhaltigen Handelns in Münsterland verteilt werden.   \nUnser Stand findet sich in der Messehalle NORD.\nMehr Infos und Infos zu allen Ausstellern hier:  \nLeezenfrühling Radmesse
URL:https://vamos-muenster.de/event/messe-leezenfuehling-vamos-mitmachstand/
LOCATION:Halle Münsterland\, Albersloher Weg 32\, Münster\, 48155\, Germany
ATTACH;FMTTYPE=image/jpeg:https://vamos-muenster.de/wp-content/uploads/2024/12/24-12-17_MLGL2.0_LeezenfruehlingMuensterland.jpg
END:VEVENT
BEGIN:VEVENT
DTSTART;VALUE=DATE:20250221
DTEND;VALUE=DATE:20250223
DTSTAMP:20260424T124104
CREATED:20250203T160145Z
LAST-MODIFIED:20250203T160145Z
UID:10610-1740096000-1740268799@vamos-muenster.de
SUMMARY:Ernährungskonferenz: Zukunft isst besser
DESCRIPTION:Unsere Ernährung beeinflusst nicht nur unsere eigene Gesundheit\, sondern auch das Leben anderer Menschen und die Zukunft unseres Planeten. Klimawandel\, Umweltzerstörung und Menschenrechtsverletzungen sind dramatische Folgen der industriellen Lebensmittelproduktion. Es ist höchste Zeit für eine Agrar- und Ernährungswende! \nAuf der Ernährungskonferenz „Zukunft isst besser“ wollen wir mit dir herausfinden\, wie diese gelingen kann. \nEingeladen sind alle Interessierten und Engagierten am und im Ernährungssystem. \nSteffi Neumann von Vamos e.V. serviert den 1. Hauptgang mit dem Workshop „FOODSTORIES. Von Küken\, Klima & Karotten“ von 11:30 Uhr bis 13:00 Uhr. Zum Kaffeeklatsch ab 16:15 Uhr ist Vamos mit einem Infostand auf dem Markt der Möglichkeiten vertreten. Komm vorbei und informiere dich über die Möglichkeit Honorarkraft für unsere Arbeit zu werden! \nDas ganze kreative Menu wird sowohl in der B-Side\, als auch in der FH Münster serviert. \nVeranstaltet wird die Ernährungskonferenz von der Christlichen Romero Initiative und dem Ernährungsrat der Stadt Münster \nVamos ist Kooperationspartner.
URL:https://vamos-muenster.de/event/ernaehrungskonferenz-zukunft-isst-besser/
LOCATION:B-Side\, Am Mittelhafen 42
ATTACH;FMTTYPE=image/jpeg:https://vamos-muenster.de/wp-content/uploads/2025/01/Zukunft-isst-besser_Bild-Flyer.jpg
END:VEVENT
END:VCALENDAR