BEGIN:VCALENDAR
VERSION:2.0
PRODID:-//Vamos e.V. - ECPv6.15.17.1//NONSGML v1.0//EN
CALSCALE:GREGORIAN
METHOD:PUBLISH
X-ORIGINAL-URL:https://vamos-muenster.de
X-WR-CALDESC:Veranstaltungen für Vamos e.V.
REFRESH-INTERVAL;VALUE=DURATION:PT1H
X-Robots-Tag:noindex
X-PUBLISHED-TTL:PT1H
BEGIN:VTIMEZONE
TZID:Europe/Paris
BEGIN:DAYLIGHT
TZOFFSETFROM:+0100
TZOFFSETTO:+0200
TZNAME:CEST
DTSTART:20240331T010000
END:DAYLIGHT
BEGIN:STANDARD
TZOFFSETFROM:+0200
TZOFFSETTO:+0100
TZNAME:CET
DTSTART:20241027T010000
END:STANDARD
BEGIN:DAYLIGHT
TZOFFSETFROM:+0100
TZOFFSETTO:+0200
TZNAME:CEST
DTSTART:20250330T010000
END:DAYLIGHT
BEGIN:STANDARD
TZOFFSETFROM:+0200
TZOFFSETTO:+0100
TZNAME:CET
DTSTART:20251026T010000
END:STANDARD
BEGIN:DAYLIGHT
TZOFFSETFROM:+0100
TZOFFSETTO:+0200
TZNAME:CEST
DTSTART:20260329T010000
END:DAYLIGHT
BEGIN:STANDARD
TZOFFSETFROM:+0200
TZOFFSETTO:+0100
TZNAME:CET
DTSTART:20261025T010000
END:STANDARD
END:VTIMEZONE
BEGIN:VEVENT
DTSTART;TZID=Europe/Paris:20250411T080000
DTEND;TZID=Europe/Paris:20250711T170000
DTSTAMP:20260424T071237
CREATED:20250307T114509Z
LAST-MODIFIED:20250423T092325Z
UID:10739-1744358400-1752253200@vamos-muenster.de
SUMMARY:Schulwettbewerb "WarendorFAIR Handeln"! Gestaltung einer Tomatendose
DESCRIPTION:Im Rahmen des zehnjährigen Jubiläums der Fair Trade Steuerungsgruppe Warendorf und der 1. Münsterländer Wandeln und Handeln Tage 2025\, die vom 2.-7. September 2025 stattfinden\, ruft die Fair Trade Town Steuerungsgruppe der Stadt Warendorf in Kooperation mit dem Verein Vamos e.V. einen Schulwettbewerb aus. \nEin Beitragsformat ist die Gestaltung eines Tomatenetiketts: \nHintergrund \nTomaten sind das Lieblingsgemüse in Deutschland. Jeder Mensch isst durchschnittlich pro Jahr 31 KG (BLE 2022). In Deutschland werden saisonal frische Tomaten auf Felder und Gewächshäusern produziert. Viele Hobbygärtner:innen bauen Tomaten auf Balkonen oder in Gärten an. Die hier erhältlichen Dosentomaten stammen meist aus Südeuropa oder anderen Ländern des Globalen Südens. Neben den Auswirkungen auf die Umwelt gibt es wiederholt Berichte über ausbeuterische Arbeitsbedingungen bei den Erntehelfer:innen. Initiativen wie NoCap aus Süditalien stellen sich dagegen und produzieren ausbeutungsfreie Dosentomaten. \nBeitragsthema \nWir freuen uns über Beiträge\, die kreativ das Thema (un) faire Arbeitsbedingungen in der Landwirtschaft lokal wie global aufgreifen und ein Bewusstsein für Alternativen aufzeigt. \nDer Wettbewerb basiert auf der Mitmachstation „Tomate passiert\, Ausbeutung auch“\, die in Warendorf an der Kolkstiege steht und 2023 im Projekt „Münsterland Global Lokal“ entstanden ist. \nRahmenprogramm \nVom 4.-7. September wird Yvan Sagnet\, Mitbegründer des Unternehmens NoCap für mafiafreie Tomaten in Warendorf sein und kann für Schulveranstaltungen angefragt werden. \nBeitragserarbeitung \nGrundlage des Beitrags ist eine klassische Aluminiumdose (425 ml)\, die zu gestalten ist. Die Teilnehmenden sind frei in der inhaltlichen Gestaltung\, solange es sich im Rahmen des Themas befindet und sie die Bildrechte besitzen. \nWichtig ist\, dass das Endergebnis ein von Format von 24cm zu 10\,2cm hat. Ebenso braucht es eine gute Qualität für den möglichen Druck. Denn der Gewinnerbeitrag wird auf eine ca. 1m große Dose (altes Ölfass gedruckt).\nBitte reichen Sie das Etikett zuerst ausgedruck im genannten Format ein und halten Sie die digitale Version bereit. \nPassendes Unterrichtsmaterial \nHier findet sich passendes Unterrichtsmaterial \nVorstellung \nDie offizielle Zertifizierungsveranstaltung findet am Sa.\, den 6. September 2025 auf dem Marktplatz in Warendorf statt. Schon jetzt möchten wir Sie hierzu herzlich einladen. Freuen Sie sich auf die Präsentation ihres Wettbewerbsbeitrags. Details folgen.  \nDer Wettbewerb findet im Projekt „„engagiert.nachhaltig.bewegt  – Münsterland Global Lokal“ statt.
URL:https://vamos-muenster.de/event/schulwettbewerbwaf/
LOCATION:NRW
END:VEVENT
BEGIN:VEVENT
DTSTART;VALUE=DATE:20250427
DTEND;VALUE=DATE:20250908
DTSTAMP:20260424T071238
CREATED:20250403T123051Z
LAST-MODIFIED:20250403T140645Z
UID:10799-1745712000-1757289599@vamos-muenster.de
SUMMARY:Aktionsmonate & Gewinnspiel: "Über den Tellerrand schauen und fahren"
DESCRIPTION:„Globale Solidarität erkunden und gewinnen: Erlebe die Wandeln & Handeln Routen im Münsterland und besuche unsere Mitmachstation.”\nAb dem 27. April rufen wir während unserer Aktionsmonate auf\, kreative Fotos und / oder Videos an unseren Mitmachstationen zu machen und über Komoot\, Social Media (Instagram\, Facebook oder LinkedIn)\, E-Mail oder Brief mit uns zu teilen. Das Motto lautet: “Über den Tellerrand schauen und fahren”:\nOrientierungsfrage: Wo erlebe ich im Alltag globale Solidarität bzw. wo agiere ich solidarisch mit Menschen an meinem Wohnort oder auch an anderen Orten der Welt?  \nAuf jedem eingereichten Beitrag sollte ein Teil der Mitmachstation\, eine Person und ein Rad zu sehen sein. Ansonsten kann der eigenen Kreativität freien Raum gelassen werden.  \nJeder eingereichte Beitrag kommt in den allgemeinen Lostopf und hat eine Chance einen der Preise zu gewinnen. Die Preise sind von regionalen Unternehmen gesponsort\, die nachhaltige\, langlebige und gewinnwohlorientierte Arbeit leisten. Details folgen bald hier. \nSonderpreise  \nIm Topf für Sonderpreise landen folgende Beiträge:  \n\nBesuch der meisten Mitmachstationen: Fotos /Video mit Fahrrad und gleicher Person  \n\n\nFoto /Video mit den meisten Fahrrädern \n\n\nFoto /Video mit den meisten Personen \n\nBitte über alle Kanäle an @vamosmuenster und #muensterlandgloballokal versenden \nZeitraum \nPhase 1: 27.04.24 bis 25.05.25 \nPhase 2:  26.05 bis 07.09.25 \n  \nWo finde ich die Mitmachstationen im Münsterland?   \nDie genauen Adressen und Hintergründe finden sich hier: https://mlgl.vamos-muenster.de/stationen/   \nBei Fragen: Mail an suessenguth@vamos-muenster.de   \nLink Instagram\nLink Linkedin\nLink Facebook\nLink Komoot \nTeilnahmebedingungen
URL:https://vamos-muenster.de/event/aktionsmonate-gewinnspiel-ueber-den-tellerrand-schauen-und-fahren/
LOCATION:Münsterland\, Im ganzen Münsterland\, NRW\, Germany
ATTACH;FMTTYPE=image/jpeg:https://vamos-muenster.de/wp-content/uploads/2025/04/25-04-03_MLGL2.0_GewinnspielBanner1366-x-350-px-Praesentation.jpg
ORGANIZER;CN="Vamos e.V.":MAILTO:info@vamos-muenster.de
END:VEVENT
BEGIN:VEVENT
DTSTART;VALUE=DATE:20250429
DTEND;VALUE=DATE:20250514
DTSTAMP:20260424T071238
CREATED:20250501T093511Z
LAST-MODIFIED:20250501T093511Z
UID:10916-1745884800-1747180799@vamos-muenster.de
SUMMARY:Planet Plastic Ausstellung in Herne
DESCRIPTION:Unsere Wnaderausstellung zum Thema Erdöl\, Plastik und Müll ist vom 29.04. bis zum 19.05. in der Volkshochschule in Herne zu sehen. \nPlastik ist überall – und es wird immer mehr: Coffee-To-Go-Becher\, Tüten\, Flaschen\, Lebensmittelverpackungen. Plastik im Meer\, im Essen\, in Medikamenten\, in unserem Blut. Pro Jahr fallen\, übereinstimmenden Medienberichten zufolge\, etwa 400 Millionen Tonnen Plastik an\, von denen ein erheblicher Teil unkontrolliert in die Umwelt gelangt\, insbesondere in Entwicklungsländern. Unsere Wanderausstellung „PlanetPlastic“ informiert und regt Jugendliche und Erwachsene zum Handeln an. Mithilfe einer digitalen Führung in Form einer begleitenden Mapstory werden sechs Hörgeschichten aus der Zukunft sowie ein eigens produzierter Kurzfilm von Schüler*innen präsentiert. Weitere Kurzfilme zum Themenkomplex\, wie Meere und Mikroplastik\, Plastik im Blut und Recycling veranschaulichen das Thema Plastik visuell.\nDie Ausstellung wird am Montag\, dem 05. Mai 2025\, 18 Uhr\, eröffnet. Den Eröffnungsvortrag hält Steffi Neumann (Vamos e.V.). \nDie Präsentation der Wanderausstellung wird ermöglicht durch eine Kooperation der Fachstelle Eine Welt des Ev. Kirchenkreises Herne und der vhs Herne. \n   
URL:https://vamos-muenster.de/event/planet-plastic-ausstellung-in-herne/
LOCATION:VHS Herne\, Willi-Pohlmann-Platz 1\, Herne\, 44649\, Germany
ATTACH;FMTTYPE=image/jpeg:https://vamos-muenster.de/wp-content/uploads/2025/04/PP_Ausstellung_Foto-2-scaled.jpeg
ORGANIZER;CN="Vamos e.V.":MAILTO:info@vamos-muenster.de
END:VEVENT
BEGIN:VEVENT
DTSTART;TZID=Europe/Paris:20250523T150000
DTEND;TZID=Europe/Paris:20250523T180000
DTSTAMP:20260424T071238
CREATED:20250501T093420Z
LAST-MODIFIED:20250501T093420Z
UID:10928-1748012400-1748023200@vamos-muenster.de
SUMMARY:Weltladentreffen in Oelde
DESCRIPTION:Alle Engagierten in Weltläden und Fairhandelsgruppen im Kreis Warendorf sind zum nächsten Vernetzungstreffen nach Oelde eingeladen. Das Treffen findet am Freitag\, den 23.05.2025 von 15 bis 18 Uhr statt. Der genaue Ort wird noch rechtzeitig bekanntgegeben.\nBisher stehen auf der Tagesordnung Erfahrungsaustausch untereinander\, ein Input zu den aktuellen Entwicklungen im Bereich Kakao und Schokolade von Georg Knipping\, aus der Fairhandelsberatung Arbeitskreis Eine Welt e.V. sowie die Vorstellung der Bildungsangebote von Vamos e.V. durch Steffi Neumann\, Eine-Welt-Regionalpromotorin Südliches Münsterland.\nAnmeldungen sind bis zum 18. Mai hier möglich. 
URL:https://vamos-muenster.de/event/weltladentreffen-in-oelde/
LOCATION:Weltladen Oelde\, Lange Str. 36\, Oelde\, 59302\, Germany
ATTACH;FMTTYPE=image/jpeg:https://vamos-muenster.de/wp-content/uploads/2025/04/weltladen-logo.900x0.jpg
END:VEVENT
BEGIN:VEVENT
DTSTART;TZID=Europe/Paris:20250525T080000
DTEND;TZID=Europe/Paris:20250525T170000
DTSTAMP:20260424T071238
CREATED:20250328T142701Z
LAST-MODIFIED:20250514T071808Z
UID:10778-1748160000-1748192400@vamos-muenster.de
SUMMARY:Abwechslungsreiche Themenradtour mit Gipfelsturm - Faire Arbeit
DESCRIPTION:Abwechslungsreiche Themenradtour mit Gipfelsturm\n\nAm Sonntag\, 25. Mai 2025 wollen wir um 10 Uhr am Bahnhof in Havixbeck eine abwechslungsreiche Radtour mit dem Themenschwerpunkt Faire Arbeit starten.\nAuf der ca. 35 km langen Tour mit 220 Höhenmetern \, die uns von Havixbeck nach Billerbeck\, zum Longinusturm und über Stift Tilbeck zurück nach Havixbeck führt\, werden wir verschiedene Einrichtungen anfahren\, die sich beispielhaft positiv mit dem Thema Faire Arbeit sowie globaler\, regionaler und lokaler Produktion beschäftigen. Stationen werden u.a. ein Steinmetzbetrieb\, eine Sockenfabrik\, eine Bäckerei\, Second-Hand-Läden und ein Bio-Bauernhof sein.\nDazu gehören auch zwei Mitmachstationen\, die sich mit dem (Un-)fairen Blumenhandel und der lokal bzw. regionalen Kleidungsproduktion beschäftigen. Zwischendurch gibt es natürlich auch Gelegenheit bei Kaffee und Kuchen auszuruhen und sich auszutauschen.\nDie Tour wird mit Pausen und Aufenthalten ca. 6 Std. dauern und kann bei ca. 18 Km/Std. mit dem Bio-Bike und allen anderen Zwei- oder Dreiradvarianten gefahren werden.\nSie ist ein Angebot des Bildungsträgers Vamos e.V. Münster\, der mit dem Projekt Münsterland Global Lokal und mit verschiedenen „Wandeln & Handeln Routen“ zu den Themen Energie\, Naturschutz\, Faire Arbeit und Lebensmittel Angebote und Einrichtungen erschließen will\, die sich für ein solidarisches\, generationsgerechtes und nachhaltiges Leben einsetzen. Dabei werden auch eigene Handlungsmöglichkeiten aufgezeigt.\n\nVorherige Anmeldung zwingend erforderlich\nAnmeldung unter:  Anmeldung Abwechslungsreiche Themenradtour\nStart- und Endpunkt: Bahnhof Havixbeck\nUhrzeit: 10-16 Uhr\nTourguide: Bernd Uppena und Ludger Wolfert (ADFC Tourguide Havixbeck)\nRückfragen: Bernd Uppena  
URL:https://vamos-muenster.de/event/gefuehrte-radtour-faire-arbeit-rund-um-billerbeck-und-tilbeck/
LOCATION:NRW
ATTACH;FMTTYPE=image/png:https://vamos-muenster.de/wp-content/uploads/2025/03/25-04-15Vorlage-Beitragsbild-Webseite_WandelnHandeln-Touren-25.4-fairearbeit.png
END:VEVENT
END:VCALENDAR