BEGIN:VCALENDAR
VERSION:2.0
PRODID:-//Vamos e.V. - ECPv6.15.17.1//NONSGML v1.0//EN
CALSCALE:GREGORIAN
METHOD:PUBLISH
X-ORIGINAL-URL:https://vamos-muenster.de
X-WR-CALDESC:Veranstaltungen für Vamos e.V.
REFRESH-INTERVAL;VALUE=DURATION:PT1H
X-Robots-Tag:noindex
X-PUBLISHED-TTL:PT1H
BEGIN:VTIMEZONE
TZID:Europe/Paris
BEGIN:DAYLIGHT
TZOFFSETFROM:+0100
TZOFFSETTO:+0200
TZNAME:CEST
DTSTART:20240331T010000
END:DAYLIGHT
BEGIN:STANDARD
TZOFFSETFROM:+0200
TZOFFSETTO:+0100
TZNAME:CET
DTSTART:20241027T010000
END:STANDARD
BEGIN:DAYLIGHT
TZOFFSETFROM:+0100
TZOFFSETTO:+0200
TZNAME:CEST
DTSTART:20250330T010000
END:DAYLIGHT
BEGIN:STANDARD
TZOFFSETFROM:+0200
TZOFFSETTO:+0100
TZNAME:CET
DTSTART:20251026T010000
END:STANDARD
BEGIN:DAYLIGHT
TZOFFSETFROM:+0100
TZOFFSETTO:+0200
TZNAME:CEST
DTSTART:20260329T010000
END:DAYLIGHT
BEGIN:STANDARD
TZOFFSETFROM:+0200
TZOFFSETTO:+0100
TZNAME:CET
DTSTART:20261025T010000
END:STANDARD
END:VTIMEZONE
BEGIN:VEVENT
DTSTART;TZID=Europe/Paris:20251104T180000
DTEND;TZID=Europe/Paris:20251104T200000
DTSTAMP:20260423T205953
CREATED:20250930T085151Z
LAST-MODIFIED:20250930T090618Z
UID:11859-1762279200-1762286400@vamos-muenster.de
SUMMARY:Film + Gespräch: There is Another Way
DESCRIPTION:Der Film There is Another Way begleitet eine für den Friedensnobelpreis nominierte Bewegung aus ehemaligen israelischen und palästinensischen Kämpfer:innen. Er zeigt eindringlich\, wie diese trotz Gewalt\, Krieg und Verzweiflung unbeirrt daran festhalten\, dass ein anderer Weg möglich ist. \nMehr Infos zur Veranstaltung: hier
URL:https://vamos-muenster.de/event/film-gespraech-there-is-another-way/
LOCATION:Cinema & Kurbelkiste\, Warendorferstr.45\, Münster\, 48145\, Deutschland
ATTACH;FMTTYPE=image/png:https://vamos-muenster.de/wp-content/uploads/2025/09/Plakat_Thereisanotherway-e1759225833431.png
END:VEVENT
BEGIN:VEVENT
DTSTART;TZID=Europe/Paris:20251113T090000
DTEND;TZID=Europe/Paris:20251113T130000
DTSTAMP:20260423T205953
CREATED:20251014T105533Z
LAST-MODIFIED:20251014T105633Z
UID:11930-1763024400-1763038800@vamos-muenster.de
SUMMARY:Workshoprunde Entwicklung einer Mitmachstation zum Thema „Gerechte Trinkwassernutzung lokal wie global“.
DESCRIPTION:In Kooperation mit der Gemeinde Senden und dem Naturschutzzentrum Kreis Coesfeld laden wir herzlich ein zur \nWorkshoprunde zur partizipativen Entwicklung einer Glokalen Mitmachstation zum Thema „Trinkwassernutzung lokal wie global“. \n  \n\n\n\nDatum / Uhrzeit\nOrt\nFokus\n\n\nDo.\, 13. Nov. 2025 von 9-13 Uhr\nSenden\nAltes Zollhaus Senden\, Münsterstraße 12\nKennenlernen\, Impulse lokale und globale Themenpaten Sammeln von Assoziationen\, Kreative Entwicklung von Symbolen und Sprüchen für die Mitmachstation\n\n\nDo. 22.01.26 (2\,5 Std.)\nSenden\nOrt wird noch bekannt gegeben\nVorstellung 1. Entwürfe Mitmachstation\, Aufnahme lokale Stimmen\,\n\n\nDo 19.02.26 (2\,5 Std)\nSenden\nOrt wird noch bekannt gegeben\nFeedback zu den finalen Entwürfen und Texte der Station\, Zwischenorte Radrouten\n\n\nMitte / Ende April 2026\nAm Standort am Düker\nEröffnungsfeier\n\n\n\n  \nGemeinsam mit Praktiker:innen aus der Trinkwasserwirtschaft\, Vertreter:innen der Gemeinde Senden\, lokalen Initiativen und Schüler:innen werden bis April 2026 Ideen\, Symbole und interaktive Elemente für eine Glokale Mitmachstation zum Thema „Gerechte Trinkwassernutzung lokal wie global“ gesammelt\, entwickelt und konstruiert. Gemeinsam mit Ihnen möchten wir die Inhalte weiterentwickeln und Feedback erhalten. Die Station wird Bestandteil der Wandeln & Handeln Radrouten quer durchs Münsterland. \nMehr zum Projekt und zu den bisherigen Stationen findet sich hier auf der Webseite: https://mlgl.vamos-muenster.de/ \nWir würden uns sehr freuen\, wenn Sie uns als Ideengeber:in oder beratend (auch bei nur einem Workshop) unterstützen würden. Für Ihre Rückfragen stehe ich Ihnen gerne zur Verfügung. Wir bitten um eine Anmeldung zum 1. Workshop bis Montag\, 10.11.2025 an suessenguth@vamos-muenster.de.
URL:https://vamos-muenster.de/event/workshoprunde-entwicklung-einer-mitmachstation-zum-thema-gerechte-trinkwassernutzung-lokal-wie-global/
LOCATION:Altes Zollhaus\, Münsterstraße 12\, Senden\, 48308\, Deutschland
ATTACH;FMTTYPE=image/jpeg:https://vamos-muenster.de/wp-content/uploads/2025/10/Workshop-Mitmach.jpg
ORGANIZER;CN="Vamos e.V.":MAILTO:info@vamos-muenster.de
END:VEVENT
BEGIN:VEVENT
DTSTART;TZID=Europe/Paris:20251113T173000
DTEND;TZID=Europe/Paris:20251113T183000
DTSTAMP:20260423T205953
CREATED:20251010T122022Z
LAST-MODIFIED:20251010T122104Z
UID:11924-1763055000-1763058600@vamos-muenster.de
SUMMARY:Lernsnack: Mapstories: Globale Geschichten interaktiv erzählen. Beispiele aus der Praxis
DESCRIPTION:Das im Jahr 2021 im Rahmen einer Zusammenarbeit zwischen re:edu GmbH & Co.KG und Vamos e.V. entstandene Tool Mapstories bietet vielfältige Optionen\, um globale Zusammenhänge mithilfe von Orten als Stationen auf einem Globus zu veranschaulichen (www.mapstories.de). \nDurch das Einbinden eigener Medien und Inhalte bekannter Plattformen wie zum Beispiel Youtube\, TikTok oder Google Street View können Nutzer*innen ab 13 Jahren interaktive Mapstories gestalten. So werden Fragestellungen des Globalen Lernens und der Bildung für nachhaltige Entwicklung im Sinne des Storytellings innovativ erarbeitet und dargestellt. \nIm Workshop werden die verschiedenen didaktischen Einsatzmöglichkeiten des Tools sowie beispielhaft die beiden Mapstories „Die Spur der Edelsteine“ und „Deutsche Kolonien in Afrika – Damals und Heute“\, die von dem BtE Referenten Andreas Lange für das EPiZ Reutlingen entwickelt wurden\, vorgestellt. \nTermin: 13.11.2025\, 17:30-18:30 Uhr\nAnmeldung: https://bildung.fairapps.net/apps/forms/s/Ld97HS5aTKkDEH69iwKjcm9i \nDie Veranstaltung ist Teil der Fortbildungsreihe „Die 17 Nachhaltigkeitsziele – Lernsnacks für Lehrkräfte“\, die vom 11. November bis zum 09. Dezember 2025 von einem Netzwerk von Nichtregierungsorganisationen\, die sich in der entwicklungspolitischen Bildungsarbeit und für das Globale Lernen engagieren\, angeboten wird. Jede Woche werden dienstags und donnerstags je zwei Lernsnacks à 60 Minuten zu verschiedenen Themen und für unterschiedliche Zielgruppen angeboten. Die Teilnahme an den Veranstaltungen ist kostenfrei. Die Anmeldungen erfolgen über die jeweilige Organisationen.
URL:https://vamos-muenster.de/event/lernsnack-mapstories-globale-geschichten-interaktiv-erzaehlen-beispiele-aus-der-praxis/
LOCATION:Digital
ATTACH;FMTTYPE=image/png:https://vamos-muenster.de/wp-content/uploads/2023/08/Logo_von_Mapstories_800x450.png
END:VEVENT
BEGIN:VEVENT
DTSTART;TZID=Europe/Paris:20251120T160000
DTEND;TZID=Europe/Paris:20251120T190000
DTSTAMP:20260423T205953
CREATED:20251014T142257Z
LAST-MODIFIED:20251014T143734Z
UID:11944-1763654400-1763665200@vamos-muenster.de
SUMMARY:2. Werkstatttreffen: „Wandeln & Handeln Tage 2026 in den Baumbergen
DESCRIPTION:Wir laden herzlich ein zum nächsten Werkstatttreffen für die Wandeln und Handeln Tage rund um den 19. April 2026 in den Baumbergen. \nHierzu treffen wir uns am Donnerstag\, 20.November 2025 von 16:00 -19:00 Uhr im Sitzungssaal des Havixbecker Rathauses. \nGemeinsam möchten wir den aktuellen Stand des Projekts teilen\, das Programm für die Wandeln & Handeln-Tage 2026 konkretisieren\, Verantwortlichkeiten und Aufgaben verteilen und Raum für neue Ideen und Mitwirkende schaffen. \nDamit wir den Überblick behalten\, haben wir alle bisherigen Ideen\, Aufgaben und Mitmachmöglichkeiten auf unserer TaskCard gesammelt: https://www.taskcards.de/#/board/d07775dd-29df-4c74-8c31-845b90b766cb?token=4fbd02a0-d4c0-41f7-9093-db8ec26e2d91 \nWer bereits dort eingetragen ist\, kann gern schon vorab schauen\, welche Punkte offen sind. Neue Teilnehmende können sich dort ebenfalls einfach eintragen oder sich beim Workshop direkt mit Ideen und Kontakten beteiligen. \nZur besseren Planung (auch für das Catering) bitten wir um eine kurze Rückmeldung\, ob ihr teilnehmen könnt\, am besten bis 13. November an antosch@vamos-muenster.de. \nEine digitale Teilnahme ist möglich. Den Zugang schicken wir nach der Anmeldung. \nKurzfristige Teilnahme ist auch möglich\, eine Rückmeldung hilft uns aber bei der Vorbereitung. \nWir freuen uns sehr auf das Wiedersehen\, den Austausch und darauf\, das Programm gemeinsam weiterzuentwickeln!
URL:https://vamos-muenster.de/event/werkstatttreffen-wandeln-handeln-tage-2026-in-den-baumbergen/
LOCATION:Rathaus Havixbeck\, Willi-Richter-Platz 1\, Havixbeck\, 48329\, Germany
ATTACH;FMTTYPE=image/png:https://vamos-muenster.de/wp-content/uploads/2025/10/25-10-14Einladung-2.-Werkstattttreffen_Baumberge.png
ORGANIZER;CN="Vamos e.V.":MAILTO:info@vamos-muenster.de
END:VEVENT
BEGIN:VEVENT
DTSTART;TZID=Europe/Paris:20251124T180000
DTEND;TZID=Europe/Paris:20251124T203000
DTSTAMP:20260423T205953
CREATED:20250930T094127Z
LAST-MODIFIED:20250930T094236Z
UID:11869-1764007200-1764016200@vamos-muenster.de
SUMMARY:Film + Gespräch: Youth Unstoppable
DESCRIPTION:Der Film Youth Unstoppable der kanadischen Aktivistin Slater Jewell-Kemker ist ein kraftvoller\, persönlicher Einblick in die Entwicklung der globalen Jugendklimabewegung. \nMehr Infos zur Veranstaltung: hier
URL:https://vamos-muenster.de/event/film-gespraech-youth-unstoppable/
LOCATION:Cinema & Kurbelkiste\, Warendorferstr.45\, Münster\, 48145\, Deutschland
ATTACH;FMTTYPE=image/jpeg:https://vamos-muenster.de/wp-content/uploads/2025/09/Plakat_Youthunstoppable-e1759228049599.jpeg
END:VEVENT
END:VCALENDAR