BEGIN:VCALENDAR
VERSION:2.0
PRODID:-//Vamos e.V. - ECPv6.15.17.1//NONSGML v1.0//EN
CALSCALE:GREGORIAN
METHOD:PUBLISH
X-ORIGINAL-URL:https://vamos-muenster.de
X-WR-CALDESC:Veranstaltungen für Vamos e.V.
REFRESH-INTERVAL;VALUE=DURATION:PT1H
X-Robots-Tag:noindex
X-PUBLISHED-TTL:PT1H
BEGIN:VTIMEZONE
TZID:Europe/Paris
BEGIN:DAYLIGHT
TZOFFSETFROM:+0100
TZOFFSETTO:+0200
TZNAME:CEST
DTSTART:20250330T010000
END:DAYLIGHT
BEGIN:STANDARD
TZOFFSETFROM:+0200
TZOFFSETTO:+0100
TZNAME:CET
DTSTART:20251026T010000
END:STANDARD
BEGIN:DAYLIGHT
TZOFFSETFROM:+0100
TZOFFSETTO:+0200
TZNAME:CEST
DTSTART:20260329T010000
END:DAYLIGHT
BEGIN:STANDARD
TZOFFSETFROM:+0200
TZOFFSETTO:+0100
TZNAME:CET
DTSTART:20261025T010000
END:STANDARD
BEGIN:DAYLIGHT
TZOFFSETFROM:+0100
TZOFFSETTO:+0200
TZNAME:CEST
DTSTART:20270328T010000
END:DAYLIGHT
BEGIN:STANDARD
TZOFFSETFROM:+0200
TZOFFSETTO:+0100
TZNAME:CET
DTSTART:20271031T010000
END:STANDARD
END:VTIMEZONE
BEGIN:VEVENT
DTSTART;TZID=Europe/Paris:20260212T130000
DTEND;TZID=Europe/Paris:20260212T140000
DTSTAMP:20260423T162418
CREATED:20251114T090835Z
LAST-MODIFIED:20251212T100109Z
UID:12033-1770901200-1770904800@vamos-muenster.de
SUMMARY:Online-Einführung in das digitale Tool Mapstories - Globales Storytelling
DESCRIPTION:[vc_row][vc_column][vc_column_text css=““]In dieser Online-Einführung lernen die Teilnehmenden die Potentiale und Funktionen des digitalen Tools Mapstories kennen. Die kostenlose Webanwendung www.mapstories.de ermöglicht es\, Themen der Bildung für nachhaltige Entwicklung (BNE) und des Globalen Lernens durch interaktive Geschichten auf einer 3D-Weltkarte zu erzählen und erfahrbar zu machen. \nAnhand einer Live-Demonstration zur Erstellung einer Mapstory werden praxisnahe Anwendungsbereiche für Vereine\, Schulen\, Initiativen und globale Partnerschaften aufgezeigt. \nNeu: Mit dem Community-Modus können nun auch externe Nutzer:innen bestehende oder angefangene Mapstories ergänzen. Sie haben die Möglichkeit\, Vorschläge für neue Inhalte auf dem Globus einzureichen\, um so das Storytelling noch kollaborativer zu gestalten. \nDie Veranstaltung wird an zwei Terminen angeboten – so kann jede:r den passenden Termin wählen:\n13.01.2026 17-18 Uhr\n12.02.2026 13-14 Uhr \nZielgruppe:\nLehrer:innen\, Multiplikator:innen für Globales Lernen & BNE\, Seminarpädagog:innen (z. B. aus Freiwilligendiensten) sowie alle\, die am digitalen Storytelling interessiert sind. \nReferent: Tore Süßenguth (Vamos e.V.) \nOrt: Online \nAnmeldung: Bitte Mail mit dem passenden Termin an mapstories@vamos-muenster.de. Der Zugangslink wird im Nachgang zugesendet. \nDie Online-Einführung findet im Rahmen der digitalen BNE-Werkstatt der BNE-Agentur NRW statt. \nWir freuen uns auf den gemeinsamen Austausch!\n📧 Weitere Infos: mapstories@vamos-muenster.de \nGefördert durch Brot für die Welt und Fachstelle Weltkirche Bistum Münster.
URL:https://vamos-muenster.de/event/online-einfuehrung-in-das-digitale-tool-mapstories-globales-storytelling/
LOCATION:Digital
ATTACH;FMTTYPE=image/png:https://vamos-muenster.de/wp-content/uploads/2023/08/Logo_von_Mapstories_Globale_Geschichten_interaktiv_erzaehlen_1200x260.png
ORGANIZER;CN="Vamos e.V.":MAILTO:info@vamos-muenster.de
END:VEVENT
BEGIN:VEVENT
DTSTART;TZID=Europe/Paris:20260219T093000
DTEND;TZID=Europe/Paris:20260219T120000
DTSTAMP:20260423T162418
CREATED:20251212T133644Z
LAST-MODIFIED:20260123T073546Z
UID:12080-1771493400-1771502400@vamos-muenster.de
SUMMARY:3. Workshoprunde Entwicklung einer Mitmachstation zum Thema "Gerechte Trinkwassernutzung lokal wie global".
DESCRIPTION:[vc_row][vc_column][vc_column_text css=““]In Kooperation mit der Gemeinde Senden und dem Naturschutzzentrum Kreis Coesfeld laden wir herzlich ein zur \nWorkshoprunde zur partizipativen Entwicklung einer Glokalen Mitmachstation zum Thema „Trinkwassernutzung lokal wie global“. \n  \n\n\n\nDatum / Uhrzeit\nOrt\nFokus\n\n\n\n\n\n\n\n\n\n\n\n\nDo 19.02.26 (9:30-12:00 Uhr)\nBürgersaal Gemeinde Senden \nMünsterstr. 30 48308 Senden\nFeedback zu den finalen Entwürfen und Texte der Station\, Zwischenorte Radrouten\n\n\nMitte / Ende April 2026\nAm Standort am Düker\nEröffnungsfeier\n\n\n\n  \nGemeinsam mit Praktiker:innen aus der Trinkwasserwirtschaft\, Vertreter:innen der Gemeinde Senden\, lokalen Initiativen und Schüler:innen werden bis April 2026 Ideen\, Symbole und interaktive Elemente für eine Glokale Mitmachstation zum Thema „Gerechte Trinkwassernutzung lokal wie global“ gesammelt\, entwickelt und konstruiert. Gemeinsam mit Ihnen möchten wir die Inhalte weiterentwickeln und Feedback erhalten. Die Station wird Bestandteil der Wandeln & Handeln Radrouten quer durchs Münsterland. \nMehr zum Projekt und zu den bisherigen Stationen findet sich hier auf der Webseite: https://mlgl.vamos-muenster.de/ \nWir würden uns sehr freuen\, wenn Sie uns als Ideengeber:in oder beratend (auch bei nur einem Workshop) unterstützen würden. Für Ihre Rückfragen stehe ich Ihnen gerne zur Verfügung. Wir bitten um eine Anmeldung zum 3. Workshop bis 16.02.2026 an suessenguth@vamos-muenster.de.[/vc_column_text][/vc_column][/vc_row]
URL:https://vamos-muenster.de/event/mlgl3wssen/
LOCATION:Bürgersaal Gemeinde Senden
ATTACH;FMTTYPE=image/jpeg:https://vamos-muenster.de/wp-content/uploads/2025/11/251113_Senden_WS1_3-scaled.jpg
ORGANIZER;CN="Vamos e.V.":MAILTO:info@vamos-muenster.de
END:VEVENT
BEGIN:VEVENT
DTSTART;TZID=Europe/Paris:20260226T160000
DTEND;TZID=Europe/Paris:20260226T190000
DTSTAMP:20260423T162418
CREATED:20251212T133908Z
LAST-MODIFIED:20251212T133908Z
UID:12141-1772121600-1772132400@vamos-muenster.de
SUMMARY:Einladung zur 3. und letzte Werkstatt für die Wandeln & Handeln-Tage 2026
DESCRIPTION:[vc_row][vc_column][vc_column_text css=““]Wir freuen uns Euch\, und alle\, die neu dazukommen möchten\, herzlich zur 3. und abschließenden Werkstatt der Wandeln & Handeln-Tage rund um den 19. April 2026 einzuladen. \nTermin: Donnerstag\, 26. Februar 2026\, 16:00-19:00 Uhr\nOrt: Sitzungssaal des Rathauses Havixbeck\, Willi-Richter-Platz 1\, 48329 Havixbeck \nNach zwei intensiven Werkstattrunden möchten wir bei diesem treffen die nächsten Schritte konkretisieren\, Programmideen zusammenführen und gemeinsam den finalen rahmen für die Aktionstage gestalten. Auch neue Interessierte sind herzlich willkommen. Es gibt viele Möglichkeiten sich einzubringen! \nWie geht es bis zur Werkstatt weiter? \nDie in der letzten Runde gegründeten Arbeitsgruppen (AGs) arbeiten aktuell an ihren Programmbeiträgen. Erste Rückmeldungen haben bereits gezeigt\, wie vielfältig und lebendig das entstehende Programm wird. \nFür eine gute Koordination benötigen wir aus jeder Gruppe eine Person als Hauptansprechpartner:in. Bitte tragt diese Person und gerne auch alle weiteren AG-Mitglieder in unserer gemeinsamen TaskCard ein. \nZur TaskCard:https://www.taskcards.de/#/board/d07775dd-29df-4c74-8c31-845b90b766cb?token=4fbd02a0-d4c0-41f7-9093-db8ec26e2d91 \nDie TaskCard bleibt unser zentraler Ort für Ideen\, Aufgaben und Mitmachmöglichkeiten\, auch neue Interessierte können sich dort unkompliziert eintragen. \nNeu ab Januar 2026: Digitale monatliche Infotermine für alle Interessierten\nUm alle Beteiligten auf dem Laufenden zu halten\, starten wir ab Januar digitale Kurztreffen\, bei denen wir die Fortschritte der AGs besprechen und offene Fragen sammeln. \nGeplante Termine (je ca. 45 Minuten): \n\n29. Januar 2026 – 16:00 Uhr\n26. März 2026 – 16:00 Uhr\n\n[/vc_column_text][/vc_column][/vc_row]
URL:https://vamos-muenster.de/event/einladung-zur-3-und-letzte-werkstatt-fuer-die-wandeln-handeln-tage-2026/
LOCATION:NRW
ATTACH;FMTTYPE=image/png:https://vamos-muenster.de/wp-content/uploads/2025/11/Web_Beitrag.png
END:VEVENT
END:VCALENDAR