BEGIN:VCALENDAR
VERSION:2.0
PRODID:-//Vamos e.V. - ECPv6.15.17.1//NONSGML v1.0//EN
CALSCALE:GREGORIAN
METHOD:PUBLISH
X-ORIGINAL-URL:https://vamos-muenster.de
X-WR-CALDESC:Veranstaltungen für Vamos e.V.
REFRESH-INTERVAL;VALUE=DURATION:PT1H
X-Robots-Tag:noindex
X-PUBLISHED-TTL:PT1H
BEGIN:VTIMEZONE
TZID:Europe/Paris
BEGIN:DAYLIGHT
TZOFFSETFROM:+0100
TZOFFSETTO:+0200
TZNAME:CEST
DTSTART:20250330T010000
END:DAYLIGHT
BEGIN:STANDARD
TZOFFSETFROM:+0200
TZOFFSETTO:+0100
TZNAME:CET
DTSTART:20251026T010000
END:STANDARD
BEGIN:DAYLIGHT
TZOFFSETFROM:+0100
TZOFFSETTO:+0200
TZNAME:CEST
DTSTART:20260329T010000
END:DAYLIGHT
BEGIN:STANDARD
TZOFFSETFROM:+0200
TZOFFSETTO:+0100
TZNAME:CET
DTSTART:20261025T010000
END:STANDARD
BEGIN:DAYLIGHT
TZOFFSETFROM:+0100
TZOFFSETTO:+0200
TZNAME:CEST
DTSTART:20270328T010000
END:DAYLIGHT
BEGIN:STANDARD
TZOFFSETFROM:+0200
TZOFFSETTO:+0100
TZNAME:CET
DTSTART:20271031T010000
END:STANDARD
END:VTIMEZONE
BEGIN:VEVENT
DTSTART;TZID=Europe/Paris:20260311T190000
DTEND;TZID=Europe/Paris:20260311T203000
DTSTAMP:20260423T150729
CREATED:20260304T200537Z
LAST-MODIFIED:20260304T200537Z
UID:12345-1773255600-1773261000@vamos-muenster.de
SUMMARY:Klimawandel von rechts - eine hybride Veranstaltung
DESCRIPTION:Rechte Akteur:innen haben die Themen Klimawandel und Umweltschutz für sich entdeckt\, denn Waldbrände und Hochwasser sind nur noch schwer wegzuleugnen.  \nIn dieser hybriden Veranstaltung\, die im Haus der Familie in Warendorf sowie digital stattfindet\, zeigt der Sozialethiker Dr. Philipp Ackermann verschiedene Modelle auf\, wie rechte Akteur:innen auf den Klimawandel reagieren und die öffentliche Meinung zu beeinflussen suchen. Eine Diskussion mit der Geowissenschaftlerin Dr. Swenja Rosenwinkel und mit den Teilnehmenden schließt sich an: Wie können wir diesen Positionen gemeinsam zivilgesellschaftlich begegnen? Wie können gegenseitiger Austausch und Vernetzung gestärkt und konstruktive Lösungsansätze gefunden werden? Vamos e.V. führt die Veranstaltung gemeinsam mit dem Haus der Familie in Warendorf durch. \nWeitere Infos und die Möglichkeit zur Anmeldung auf dieser Webseite. \n    
URL:https://vamos-muenster.de/event/klimawandel-von-rechts-eine-hybride-veranstaltung/
LOCATION:Haus der Familie\, Hohe Straße 3\, Warendorf\, 48231
ATTACH;FMTTYPE=image/jpeg:https://vamos-muenster.de/wp-content/uploads/2026/03/Klimawandelvonrechts.jpg
ORGANIZER;CN="Haus der Familie":MAILTO:info@fbs-warendorf.de
END:VEVENT
BEGIN:VEVENT
DTSTART;TZID=Europe/Paris:20260326T160000
DTEND;TZID=Europe/Paris:20260326T170000
DTSTAMP:20260423T150729
CREATED:20251215T120959Z
LAST-MODIFIED:20260306T144622Z
UID:12188-1774540800-1774544400@vamos-muenster.de
SUMMARY:2. Digitales Infotreffen zu den Wandeln & Handeln Tagen 2026
DESCRIPTION:[vc_row][vc_column][vc_column_text css=““]Vamos und seine Partner stellen den aktuellen Stand vor. Jede Arbeitsgruppe erhält die Gelegenheit\, sowohl über erreichte Ergebnisse als auch über Bereiche\, in denen noch Unterstützung gebraucht wird\, zu berichten. Interessierte können gerne teilnehmen\, um sich mit eigenen Aktivitäten einzubringen oder auch nur ihre Unterstützung anbieten. Einfach einwählen\, mitmachen\, miterleben und verändern. \nDatum: 26.03.2026\nUhrzeit: 16Uhr (Dauer ca. 45 Minuten)\nOrt: online \nLink für das 2. Digitale Infotreffen:\nhttps://teams.microsoft.com/l/meetup-join/19%3ameeting_ZmU2Y2ExMTEtN2NhNi00Yzk4LThjZmYtNjFhOGNjNzg2NzQ3%40thread.v2/0?context=%7b%22Tid%22%3a%22e49cdd5d-d530-42ae-acef-cf4f9e18db6f%22%2c%22Oid%22%3a%22125ae67b-5168-4461-ab8b-871f73d13803%22%7d[/vc_column_text][/vc_column][/vc_row]
URL:https://vamos-muenster.de/event/2-digitales-infotreffen-zu-den-wandeln-handeln-tagen-2026/
LOCATION:NRW
ATTACH;FMTTYPE=image/png:https://vamos-muenster.de/wp-content/uploads/2025/12/Digitales-Infotreffen.png
END:VEVENT
END:VCALENDAR